BEGIN:VCALENDAR
VERSION:2.0
PRODID:-//Quiltworx.com - ECPv4.9.6//NONSGML v1.0//EN
CALSCALE:GREGORIAN
METHOD:PUBLISH
X-WR-CALNAME:Quiltworx.com
X-ORIGINAL-URL:https://www.quiltworx.com
X-WR-CALDESC:Events for Quiltworx.com
BEGIN:VTIMEZONE
TZID:"America/Denver"
BEGIN:DAYLIGHT
TZOFFSETFROM:-0700
TZOFFSETTO:-0600
TZNAME:MDT
DTSTART:20200308T090000
END:DAYLIGHT
BEGIN:STANDARD
TZOFFSETFROM:-0600
TZOFFSETTO:-0700
TZNAME:MST
DTSTART:20201101T080000
END:STANDARD
END:VTIMEZONE
BEGIN:VEVENT
DTSTART;TZID="America/Denver":20201024T100000
DTEND;TZID="America/Denver":20201024T130000
DTSTAMP:20260421T025754
CREATED:20200821T011730Z
LAST-MODIFIED:20200821T011731Z
UID:97614-1603533600-1603544400@www.quiltworx.com
SUMMARY:Zoom- Sandstone Spires
DESCRIPTION:Class 3 of 3 \n
URL:https://www.quiltworx.com/event/zoom-sandstone-spires-2/
CATEGORIES:Julie Connell
ORGANIZER;CN="Julie%20Connell":MAILTO:julie@excelpaperpiecing.com
END:VEVENT
END:VCALENDAR