BEGIN:VCALENDAR
VERSION:2.0
PRODID:-//Quiltworx.com - ECPv4.9.6//NONSGML v1.0//EN
CALSCALE:GREGORIAN
METHOD:PUBLISH
X-WR-CALNAME:Quiltworx.com
X-ORIGINAL-URL:https://www.quiltworx.com
X-WR-CALDESC:Events for Quiltworx.com
BEGIN:VTIMEZONE
TZID:"America/Denver"
BEGIN:DAYLIGHT
TZOFFSETFROM:-0700
TZOFFSETTO:-0600
TZNAME:MDT
DTSTART:20220313T090000
END:DAYLIGHT
BEGIN:STANDARD
TZOFFSETFROM:-0600
TZOFFSETTO:-0700
TZNAME:MST
DTSTART:20221106T080000
END:STANDARD
END:VTIMEZONE
BEGIN:VEVENT
DTSTART;TZID="America/Denver":20220226T100000
DTEND;TZID="America/Denver":20220226T120000
DTSTAMP:20260423T153733
CREATED:20211203T014741Z
LAST-MODIFIED:20211203T014922Z
UID:102282-1645869600-1645876800@www.quiltworx.com
SUMMARY:Zoom Dinner Plate Dahlia Class Starting Feb. 2022  See below for details
DESCRIPTION:Zoom Dinner Plate Dahlia \nClass price $195.00 \nLimited to 6-7 students \nFebruary 26th Orientation/Class pre prep guidance \nClass dates: \nMarch 12th\, April 2nd\, April 23rd\, May 14th\, May 21st and June 4th tentative depending on students need. \nDeposit required by Dec. 15th.  to reserve space.  $50.00 non-refundable \nContact:  Julie Connell 314-406-6049 \njconnellhfs@yahoo.com or julie@excelpaperpiecing.com \n
URL:https://www.quiltworx.com/event/zoom-dinner-plate-dahlia-class-starting-feb-2022-see-below-for-details/
CATEGORIES:Dinner Plate Dahlia,Julie Connell
ORGANIZER;CN="Julie%20Connell":MAILTO:julie@excelpaperpiecing.com
END:VEVENT
END:VCALENDAR