BEGIN:VCALENDAR
VERSION:2.0
PRODID:-//Quiltworx.com - ECPv4.9.6//NONSGML v1.0//EN
CALSCALE:GREGORIAN
METHOD:PUBLISH
X-WR-CALNAME:Quiltworx.com
X-ORIGINAL-URL:https://www.quiltworx.com
X-WR-CALDESC:Events for Quiltworx.com
BEGIN:VTIMEZONE
TZID:"America/Denver"
BEGIN:DAYLIGHT
TZOFFSETFROM:-0700
TZOFFSETTO:-0600
TZNAME:MDT
DTSTART:20200308T090000
END:DAYLIGHT
BEGIN:STANDARD
TZOFFSETFROM:-0600
TZOFFSETTO:-0700
TZNAME:MST
DTSTART:20201101T080000
END:STANDARD
END:VTIMEZONE
BEGIN:VEVENT
DTSTART;TZID="America/Denver":20200807T100000
DTEND;TZID="America/Denver":20200808T160000
DTSTAMP:20260421T080729
CREATED:20200605T184347Z
LAST-MODIFIED:20200605T184347Z
UID:97290-1596794400-1596902400@www.quiltworx.com
SUMMARY:Wintergreen and Iceberg Ridge Session 2 and Judy sew day\, Acme Fabric and Quilt Co\, Blair\, NE\, August 7 - 8\, 2020
DESCRIPTION:
URL:https://www.quiltworx.com/event/wintergreen-and-iceberg-ridge-session-2-and-judy-sew-day-acme-fabric-and-quilt-co-blair-ne-august-7-8-2020/
LOCATION:Acme Fabric and Quilt Co.\, 1716 Washington St. \, Blair\, NE   68008\, NE\, 68008\, United States
CATEGORIES:Connie Lange
ORGANIZER;CN="Acme%20Fabric%20and%20Quilt%20Company":MAILTO:coyote@acmefabric.com
END:VEVENT
END:VCALENDAR