BEGIN:VCALENDAR
VERSION:2.0
PRODID:-//Quiltworx.com - ECPv4.9.6//NONSGML v1.0//EN
CALSCALE:GREGORIAN
METHOD:PUBLISH
X-WR-CALNAME:Quiltworx.com
X-ORIGINAL-URL:https://www.quiltworx.com
X-WR-CALDESC:Events for Quiltworx.com
BEGIN:VTIMEZONE
TZID:"America/Denver"
BEGIN:DAYLIGHT
TZOFFSETFROM:-0700
TZOFFSETTO:-0600
TZNAME:MDT
DTSTART:20200308T090000
END:DAYLIGHT
BEGIN:STANDARD
TZOFFSETFROM:-0600
TZOFFSETTO:-0700
TZNAME:MST
DTSTART:20201101T080000
END:STANDARD
END:VTIMEZONE
BEGIN:VEVENT
DTSTART;TZID="America/Denver":20200814T100000
DTEND;TZID="America/Denver":20200814T160000
DTSTAMP:20260421T075032
CREATED:20200605T184743Z
LAST-MODIFIED:20200605T184743Z
UID:97294-1597399200-1597420800@www.quiltworx.com
SUMMARY:Wintergreen and Iceberg Ridge cutting class\, Wise Monkey Quilt Shop\, Denison\, IA\, August 14\, 2020
DESCRIPTION:
URL:https://www.quiltworx.com/event/wintergreen-and-iceberg-ridge-cutting-class-wise-monkey-quilt-shop-denison-ia-august-14-2020/
LOCATION:Wise Monkey Quilts\, 501 Highway 39 N\, Dennison\, IA\, 51442\, United States
CATEGORIES:Connie Lange
END:VEVENT
END:VCALENDAR