BEGIN:VCALENDAR
VERSION:2.0
PRODID:-//Quiltworx.com - ECPv4.9.6//NONSGML v1.0//EN
CALSCALE:GREGORIAN
METHOD:PUBLISH
X-WR-CALNAME:Quiltworx.com
X-ORIGINAL-URL:https://www.quiltworx.com
X-WR-CALDESC:Events for Quiltworx.com
BEGIN:VTIMEZONE
TZID:"America/Denver"
BEGIN:DAYLIGHT
TZOFFSETFROM:-0700
TZOFFSETTO:-0600
TZNAME:MDT
DTSTART:20190310T090000
END:DAYLIGHT
BEGIN:STANDARD
TZOFFSETFROM:-0600
TZOFFSETTO:-0700
TZNAME:MST
DTSTART:20191103T080000
END:STANDARD
END:VTIMEZONE
BEGIN:VEVENT
DTSTART;VALUE=DATE:20190914
DTEND;VALUE=DATE:20190915
DTSTAMP:20260423T150835
CREATED:20181031T204703Z
LAST-MODIFIED:20181031T204703Z
UID:91474-1568419200-1568505599@www.quiltworx.com
SUMMARY:Wedding Star Table Topper (Session One) - Heart Blossom; Sand Creek\, WI
DESCRIPTION:
URL:https://www.quiltworx.com/event/wedding-star-table-topper-session-one-heart-blossom-sand-creek-wi/
LOCATION:Heart Blossom Quilts\, N13430 County TK 1\, Sand Creek\, WI\, 54765\, United States
CATEGORIES:Jodie Madison,Wedding Star Table Topper
END:VEVENT
END:VCALENDAR