BEGIN:VCALENDAR
VERSION:2.0
PRODID:-//Quiltworx.com - ECPv4.9.6//NONSGML v1.0//EN
CALSCALE:GREGORIAN
METHOD:PUBLISH
X-WR-CALNAME:Quiltworx.com
X-ORIGINAL-URL:https://www.quiltworx.com
X-WR-CALDESC:Events for Quiltworx.com
BEGIN:VTIMEZONE
TZID:"America/Denver"
BEGIN:DAYLIGHT
TZOFFSETFROM:-0700
TZOFFSETTO:-0600
TZNAME:MDT
DTSTART:20170312T090000
END:DAYLIGHT
BEGIN:STANDARD
TZOFFSETFROM:-0600
TZOFFSETTO:-0700
TZNAME:MST
DTSTART:20171105T080000
END:STANDARD
END:VTIMEZONE
BEGIN:VEVENT
DTSTART;TZID="America/Denver":20170610T100000
DTEND;TZID="America/Denver":20170610T160000
DTSTAMP:20260424T001608
CREATED:20170314T131331Z
LAST-MODIFIED:20170317T225047Z
UID:82925-1497088800-1497110400@www.quiltworx.com
SUMMARY:Wedding Star Table Topper - Day 2
DESCRIPTION:The Wedding Star Table Topper pattern is Judy’s original Wedding Star design downsized to a 2 ring by 2 ring layout\, measuring 30” x 30”. This topper makes a great companion project to the large quilt sizes or a stand alone accent to any table you may have in mind! This small project allows you to get your feet wet without the commitment to a large project. \nStop by the store and check out our finished sample.  Kits are available upon requests or we can help you design your own colorway.   YOU CAN SHOP YOUR STASH\, buy your fabric (15% off already Discounted prices)\, or pick up a kit at Sew Many Things. \nJoin Nancy K. to create this wonderful project. This is a 2-Session Class which will be held on April 29th & June 10th. \nThe cost of this 2-day class includes the following: \n\nWedding Star Table Topper Pattern\n12 hours of Course Instruction by Nancy Kloster\, a Nationally Certified Judy Niemeyer Instructor\n3 hours of Pre-cutting Instruction by Patti M & Nancy D\nLunch & Light Snacks for both days\n\nFor additional details\, click here! \n
URL:https://www.quiltworx.com/event/wedding-star-table-topper-day-2/
LOCATION:Sew Many Things\, 35486 Groesbeck Highway\, Clinton Township\, MI\, 48035\, United States
CATEGORIES:Nancy Kloster,Sew Many Things,Wedding Star Table Topper
ORGANIZER;CN="Sew%20Many%20Things%20Sewing%20Center":MAILTO:sewmanythingsle@yahoo.com
END:VEVENT
END:VCALENDAR