BEGIN:VCALENDAR
VERSION:2.0
PRODID:-//Quiltworx.com - ECPv4.9.6//NONSGML v1.0//EN
CALSCALE:GREGORIAN
METHOD:PUBLISH
X-WR-CALNAME:Quiltworx.com
X-ORIGINAL-URL:https://www.quiltworx.com
X-WR-CALDESC:Events for Quiltworx.com
BEGIN:VTIMEZONE
TZID:"America/Denver"
BEGIN:DAYLIGHT
TZOFFSETFROM:-0700
TZOFFSETTO:-0600
TZNAME:MDT
DTSTART:20170312T090000
END:DAYLIGHT
BEGIN:STANDARD
TZOFFSETFROM:-0600
TZOFFSETTO:-0700
TZNAME:MST
DTSTART:20171105T080000
END:STANDARD
END:VTIMEZONE
BEGIN:VEVENT
DTSTART;TZID="America/Denver":20170812T133000
DTEND;TZID="America/Denver":20170812T170000
DTSTAMP:20260424T012900
CREATED:20170531T004014Z
LAST-MODIFIED:20170531T004014Z
UID:84089-1502544600-1502557200@www.quiltworx.com
SUMMARY:Wedding Star Table Topper
DESCRIPTION:Have you always wanted to make a Wedding Star quilt?  Come try this small paper pieced version before making a major investment in fabric for a full-sized quilt.  This 2 ring by 2 ring layout that measures 30″ x 30″ will get your feet wet and look great on your dining table.  In this three session class you will be learning how to paper piece on a pattern that includes floating points\, curved piecing\, smart corners\, and the use of template layout sheets.  Class will be held at the Honey Bee Quilt Store in Austin\, TX and you can enroll by calling them at 512-257-1269 or visit the website at www.honeybeequiltstore.com. \n
URL:https://www.quiltworx.com/event/wedding-star-table-topper-4/
LOCATION:Honey Bee Quilt Store\, 9308 Anderson Mill Rd\, Austin\, TX\, 78729\, United States
CATEGORIES:Terre Walker,Wedding Star Table Topper
END:VEVENT
END:VCALENDAR