BEGIN:VCALENDAR
VERSION:2.0
PRODID:-//Quiltworx.com - ECPv4.9.6//NONSGML v1.0//EN
CALSCALE:GREGORIAN
METHOD:PUBLISH
X-WR-CALNAME:Quiltworx.com
X-ORIGINAL-URL:https://www.quiltworx.com
X-WR-CALDESC:Events for Quiltworx.com
BEGIN:VTIMEZONE
TZID:"America/Denver"
BEGIN:DAYLIGHT
TZOFFSETFROM:-0700
TZOFFSETTO:-0600
TZNAME:MDT
DTSTART:20180311T090000
END:DAYLIGHT
BEGIN:STANDARD
TZOFFSETFROM:-0600
TZOFFSETTO:-0700
TZNAME:MST
DTSTART:20181104T080000
END:STANDARD
END:VTIMEZONE
BEGIN:VEVENT
DTSTART;TZID="America/Denver":20180908T100000
DTEND;TZID="America/Denver":20180908T163000
DTSTAMP:20260422T183149
CREATED:20180806T205356Z
LAST-MODIFIED:20180806T211908Z
UID:90123-1536400800-1536424200@www.quiltworx.com
SUMMARY:Wedding Star Table Topper - 3 sessions
DESCRIPTION:Learn the fundamentals of foundation paper piecing as you create your very own beautiful Judy Niemeyer Wedding Star Table Topper! Class is perfect for everyone — from beginners to experienced quiltmakers. Attend all 3 sessions and you should have your table topper complete — or almost! by the end of the 3rd class! Class size will be limited to 8 people. \nSeptember 7\, 8 and Sept 28 \n10:00 AM – 4:30 PM \nCost: $150 for all 3 days plus supplies \n  \n
URL:https://www.quiltworx.com/event/wedding-star-table-topper-3-sessions-2/
LOCATION:Cardinal Creations\, 7451 W Blue Rd.\, Lake City\, MI\, United States
CATEGORIES:Kathryn Groves,Wedding Star Table Topper
ORGANIZER;CN="Kathryn%20Groves":MAILTO:kathy@bobkatquilts.com
END:VEVENT
END:VCALENDAR