BEGIN:VCALENDAR
VERSION:2.0
PRODID:-//Quiltworx.com - ECPv4.9.6//NONSGML v1.0//EN
CALSCALE:GREGORIAN
METHOD:PUBLISH
X-WR-CALNAME:Quiltworx.com
X-ORIGINAL-URL:https://www.quiltworx.com
X-WR-CALDESC:Events for Quiltworx.com
BEGIN:VTIMEZONE
TZID:"America/Kentucky/Louisville"
BEGIN:DAYLIGHT
TZOFFSETFROM:-0500
TZOFFSETTO:-0400
TZNAME:EDT
DTSTART:20220313T070000
END:DAYLIGHT
BEGIN:STANDARD
TZOFFSETFROM:-0400
TZOFFSETTO:-0500
TZNAME:EST
DTSTART:20221106T060000
END:STANDARD
END:VTIMEZONE
BEGIN:VEVENT
DTSTART;TZID="America/Kentucky/Louisville":20221017T100000
DTEND;TZID="America/Kentucky/Louisville":20221017T170000
DTSTAMP:20260422T215819
CREATED:20220914T162154Z
LAST-MODIFIED:20221004T172120Z
UID:104703-1666000800-1666026000@www.quiltworx.com
SUMMARY:Wedding Star Table Topper
DESCRIPTION:Learn how to make a double wedding ring table topper. This same technique is used to make the wedding ring bed quilt \nTwo sessions 9/26 and 10/17 at the Sewing and Vacuum authority \n
URL:https://www.quiltworx.com/event/wedding-star-table-topper-12-2022-10-10/
LOCATION:Sewing and Vacuum Authority\, 10494 Westport Rd\, Louisville\, KY\, 40241\, United States
CATEGORIES:Debbie Dison,Wedding Star Table Topper
END:VEVENT
END:VCALENDAR