BEGIN:VCALENDAR
VERSION:2.0
PRODID:-//Quiltworx.com - ECPv4.9.6//NONSGML v1.0//EN
CALSCALE:GREGORIAN
METHOD:PUBLISH
X-WR-CALNAME:Quiltworx.com
X-ORIGINAL-URL:https://www.quiltworx.com
X-WR-CALDESC:Events for Quiltworx.com
BEGIN:VTIMEZONE
TZID:"America/Denver"
BEGIN:DAYLIGHT
TZOFFSETFROM:-0700
TZOFFSETTO:-0600
TZNAME:MDT
DTSTART:20170312T090000
END:DAYLIGHT
BEGIN:STANDARD
TZOFFSETFROM:-0600
TZOFFSETTO:-0700
TZNAME:MST
DTSTART:20171105T080000
END:STANDARD
END:VTIMEZONE
BEGIN:VEVENT
DTSTART;TZID="America/Denver":20170211T093000
DTEND;TZID="America/Denver":20170211T153000
DTSTAMP:20260424T012632
CREATED:20161230T002101Z
LAST-MODIFIED:20161230T002101Z
UID:81280-1486805400-1486827000@www.quiltworx.com
SUMMARY:Wedding Ring
DESCRIPTION:This class is presented in a series of three classes. We will cover the techniques required to make any of Judy Niemeyer’s wedding ring quilts: working with her Bali Pops\, curved piecing\,templates\, and we will discuss applying binding to the curved edges. There are a number of wedding ring patterns available from Quiltworx! Check the website and Granny’s Quilt Shop! \n
URL:https://www.quiltworx.com/event/wedding-ring/
LOCATION:Granny's Quilt Shop\, 1108 Argent Blvd\, Ridgeland\, SC\, 29936\, Select a Country:
CATEGORIES:Bali Wedding Star,Carol Jaynes
END:VEVENT
END:VCALENDAR