BEGIN:VCALENDAR
VERSION:2.0
PRODID:-//Quiltworx.com - ECPv4.9.6//NONSGML v1.0//EN
CALSCALE:GREGORIAN
METHOD:PUBLISH
X-WR-CALNAME:Quiltworx.com
X-ORIGINAL-URL:https://www.quiltworx.com
X-WR-CALDESC:Events for Quiltworx.com
BEGIN:VTIMEZONE
TZID:"America/Denver"
BEGIN:DAYLIGHT
TZOFFSETFROM:-0700
TZOFFSETTO:-0600
TZNAME:MDT
DTSTART:20170312T090000
END:DAYLIGHT
BEGIN:STANDARD
TZOFFSETFROM:-0600
TZOFFSETTO:-0700
TZNAME:MST
DTSTART:20171105T080000
END:STANDARD
END:VTIMEZONE
BEGIN:VEVENT
DTSTART;TZID="America/Denver":20170408T093000
DTEND;TZID="America/Denver":20170408T153000
DTSTAMP:20260425T135331
CREATED:20161230T004120Z
LAST-MODIFIED:20161230T004120Z
UID:81292-1491643800-1491665400@www.quiltworx.com
SUMMARY:Wedding Ring
DESCRIPTION:This is the third class in a series of three classes that covers the techniques needed to complete any of the Quiltworx wedding ring patterns. \n
URL:https://www.quiltworx.com/event/wedding-ring-3/
LOCATION:Granny's Quilt Shop\, 1108 Argent Blvd\, Ridgeland\, SC\, 29936\, Select a Country:
CATEGORIES:Carol Jaynes
END:VEVENT
END:VCALENDAR