BEGIN:VCALENDAR
VERSION:2.0
PRODID:-//Quiltworx.com - ECPv4.9.6//NONSGML v1.0//EN
CALSCALE:GREGORIAN
METHOD:PUBLISH
X-WR-CALNAME:Quiltworx.com
X-ORIGINAL-URL:https://www.quiltworx.com
X-WR-CALDESC:Events for Quiltworx.com
BEGIN:VTIMEZONE
TZID:"America/Denver"
BEGIN:DAYLIGHT
TZOFFSETFROM:-0700
TZOFFSETTO:-0600
TZNAME:MDT
DTSTART:20170312T090000
END:DAYLIGHT
BEGIN:STANDARD
TZOFFSETFROM:-0600
TZOFFSETTO:-0700
TZNAME:MST
DTSTART:20171105T080000
END:STANDARD
END:VTIMEZONE
BEGIN:VEVENT
DTSTART;TZID="America/Denver":20170509T180000
DTEND;TZID="America/Denver":20170509T210000
DTSTAMP:20260423T235007
CREATED:20170318T001820Z
LAST-MODIFIED:20170410T111354Z
UID:83011-1494352800-1494363600@www.quiltworx.com
SUMMARY:Vintage Rose TOM Night Series - Night 1 of 2 (1st Month Session)
DESCRIPTION:Vintage Rose is Judy Niemeyer of Quiltworx.com’s newest Technique of the Month (TOM) quilt. Judy’s technique of the month patterns incorporate a wide range of Judy’s techniques and familiarize quilters with those techniques in a manner that will allow them to pick up any of Judy’s patterns and successfully complete them after they have completed one of the TOM patterns. The Vintage Rose quilt pattern includes complete instructions and pre-printed foundation papers to make a beautiful Queen Size quilt. The pattern will be included in the cost of the Registration Fee. \nNight Series = (2) 3-hour Evening Sessions per month – 2nd Tue/Wed of Each Month – 6-9pm \nDates: \nSession 1: 09-10 May (Tues/Wed)\nSession 2: 13-14 June (Tues/Wed)\nSession 3: 11-12 July (Tues/Wed)\nSession 4: 08-09 Aug (Tues/Wed)\nSession 5: 12-12 Sep (Tues/Wed)\nSession 6: 10-11 Oct (Tues/Wed)\nSession 7: 14-15 Nov (Tues/Wed) \nThis is a 7 session Tuesday/Wednesday Evening  class.  Each month we will be focusing on a technique packet.  We will be offering a new technique for this class each Month.  This will give you plenty of time in between to finish your units and be ready for the next technique.  The last month you will be assembling the units to complete your quilt.  Design your own colorway or chose from one of the 2 colorway kits we are offering.   Stop by the store and check out our finished sample.  We will have kits available upon requests.  Sample will be available in April 2017.  YOU CAN SHOP YOUR STASH\, buy your fabric or kit at Sew Many Things (15% off already Discounted prices) \nThe 7-session series will include the following: \n\nVintage Rose Queen Pattern\n63 hours of sewing instruction with a Judy Niemeyer Certified Shop Instructor\n14 hours of cutting Instructions\nLunch & Snacks on each Saturday Class\n\nRegistration Fee to join our TOM series is $110 and includes the following: \n\nVintage Rose Queen Pattern – 6 Booklets (To be distributed at class sessions)\nOrganizational Packet\n\nFor more details click here. \n
URL:https://www.quiltworx.com/event/vintage-rose-tom-night-series-night-1-of-2-1st-month-session/
LOCATION:Sew Many Things\, 35486 Groesbeck Highway\, Clinton Township\, MI\, 48035\, United States
CATEGORIES:Sew Many Things,Vintage Rose
ORGANIZER;CN="Sew%20Many%20Things%20Sewing%20Center":MAILTO:sewmanythingsle@yahoo.com
END:VEVENT
END:VCALENDAR