BEGIN:VCALENDAR
VERSION:2.0
PRODID:-//Quiltworx.com - ECPv4.9.6//NONSGML v1.0//EN
CALSCALE:GREGORIAN
METHOD:PUBLISH
X-WR-CALNAME:Quiltworx.com
X-ORIGINAL-URL:https://www.quiltworx.com
X-WR-CALDESC:Events for Quiltworx.com
BEGIN:VTIMEZONE
TZID:"America/Denver"
BEGIN:DAYLIGHT
TZOFFSETFROM:-0700
TZOFFSETTO:-0600
TZNAME:MDT
DTSTART:20170312T090000
END:DAYLIGHT
BEGIN:STANDARD
TZOFFSETFROM:-0600
TZOFFSETTO:-0700
TZNAME:MST
DTSTART:20171105T080000
END:STANDARD
END:VTIMEZONE
BEGIN:VEVENT
DTSTART;TZID="America/Denver":20170506T100000
DTEND;TZID="America/Denver":20170506T160000
DTSTAMP:20260423T180753
CREATED:20170317T231253Z
LAST-MODIFIED:20170410T112127Z
UID:83008-1494064800-1494086400@www.quiltworx.com
SUMMARY:Vintage Rose Technique of the Month Day Series - 1st of 7 Sessions
DESCRIPTION:Vintage Rose is Judy Niemeyer of Quiltworx.com’s newest Technique of the Month (TOM) quilt. Judy’s technique of the month patterns incorporate a wide range of Judy’s techniques and familiarize quilters with those techniques in a manner that will allow them to pick up any of Judy’s patterns and successfully complete them after they have completed one of the TOM patterns. The Vintage Rose quilt pattern includes complete instructions and pre-printed foundation papers to make a beautiful Queen Size quilt. The pattern will be included in the cost of the Registration Fee.Day Series = (1) 6-hour Day Session per month – 1st Saturday of Each Month – 10a-4p \nDates: \nSession 1: 06 May (Sat)\nSession 2: 03 Jun (Sat)\nSession 3: 01 Jul (Sat)\nSession 4: 05 Aug (Sat)\nSession 5: 02 Sep (Sat)\nSession 6: 01 Oct (Sat)\nSession 7: 04 Nov (Sat) \nThis is a 7 session Saturday Day  class.  Each month we will be focusing on a technique packet.  We will be offering a new technique for this class each Month.  This will give you plenty of time in between to finish your units and be ready for the next technique.  The last month you will be assembling the units to complete your quilt.  Design your own colorway or chose from one of the several colorway kits we are offering.   Stop by the store and check out our finished sample.  We will have kits available upon requests.  Sample will be available in April 2017.  YOU CAN SHOP YOUR STASH\, buy your fabric or kit at Sew Many Things (15% off already Discounted prices) \nThe 7-session series will include the following: \n\nVintage Rose Queen Pattern\n63 hours of sewing instruction with a Judy Niemeyer Certified Shop Instructor\n14 hours of cutting Instructions\nLunch & Snacks on each Saturday Class\n\nJoin Us to create this wonderful project. \nFor more details click here. \n
URL:https://www.quiltworx.com/event/vintage-rose-technique-of-the-month-day-series/
LOCATION:Sew Many Things\, 35486 Groesbeck Highway\, Clinton Township\, MI\, 48035\, United States
CATEGORIES:Sew Many Things,Vintage Rose
ORGANIZER;CN="Sew%20Many%20Things%20Sewing%20Center":MAILTO:sewmanythingsle@yahoo.com
END:VEVENT
END:VCALENDAR