BEGIN:VCALENDAR
VERSION:2.0
PRODID:-//Quiltworx.com - ECPv4.9.6//NONSGML v1.0//EN
CALSCALE:GREGORIAN
METHOD:PUBLISH
X-WR-CALNAME:Quiltworx.com
X-ORIGINAL-URL:https://www.quiltworx.com
X-WR-CALDESC:Events for Quiltworx.com
BEGIN:VTIMEZONE
TZID:"America/Denver"
BEGIN:DAYLIGHT
TZOFFSETFROM:-0700
TZOFFSETTO:-0600
TZNAME:MDT
DTSTART:20170312T090000
END:DAYLIGHT
BEGIN:STANDARD
TZOFFSETFROM:-0600
TZOFFSETTO:-0700
TZNAME:MST
DTSTART:20171105T080000
END:STANDARD
END:VTIMEZONE
BEGIN:VEVENT
DTSTART;TZID="America/Denver":20170611T100000
DTEND;TZID="America/Denver":20170611T150000
DTSTAMP:20260424T085517
CREATED:20170413T003653Z
LAST-MODIFIED:20170413T003653Z
UID:83335-1497175200-1497193200@www.quiltworx.com
SUMMARY:Vintage Rose Queen Class 1 of 6
DESCRIPTION:Vintage Rose Paper Piecing with Sarah! \nCome join us for this Judy Niemeyer Quiltworx Technique of the Month 2017. (Queen Size) \nPattern $95 \nKit Fee: $300 \nClass Fee $50 per month \nSundays  6/11\, 7/16\, 8/13\, 9/10\, 10/15 & 11/5 \n10AM—3PM \n*by signing up for this class you agree to pay the $50 class fee for all 6 months \nPlease call or email us to sign up.   \nQuilt Basket \n845-227-7606 \norders@quiltbasket.com \nwww.quiltbasket.com \n  \n
URL:https://www.quiltworx.com/event/vintage-rose-queen-class-1-of-6/
LOCATION:Quilt Basket\, 4D Oak Street\, Pawling\, NY\, United States
CATEGORIES:Quilt Basket,Vintage Rose
ORGANIZER;CN="Sarah%20Fabian%20Quilt%20Basket":MAILTO:orders@quiltbasket.com
END:VEVENT
END:VCALENDAR