BEGIN:VCALENDAR
VERSION:2.0
PRODID:-//Quiltworx.com - ECPv4.9.6//NONSGML v1.0//EN
CALSCALE:GREGORIAN
METHOD:PUBLISH
X-WR-CALNAME:Quiltworx.com
X-ORIGINAL-URL:https://www.quiltworx.com
X-WR-CALDESC:Events for Quiltworx.com
BEGIN:VTIMEZONE
TZID:"America/Denver"
BEGIN:DAYLIGHT
TZOFFSETFROM:-0700
TZOFFSETTO:-0600
TZNAME:MDT
DTSTART:20180311T090000
END:DAYLIGHT
BEGIN:STANDARD
TZOFFSETFROM:-0600
TZOFFSETTO:-0700
TZNAME:MST
DTSTART:20181104T080000
END:STANDARD
END:VTIMEZONE
BEGIN:VEVENT
DTSTART;TZID="America/Denver":20180113T100000
DTEND;TZID="America/Denver":20180113T170000
DTSTAMP:20260419T203553
CREATED:20171130T035722Z
LAST-MODIFIED:20171130T035722Z
UID:86872-1515837600-1515862800@www.quiltworx.com
SUMMARY:VINTAGE ROSE EXPRESS
DESCRIPTION:THIS 3 DAY CLASS IF FOR THOSE WHO HAVE ALREADY MADE A VINTAGE ROSE AND WANT TO MAKE IT AGAIN.  CONTACT THE SHOP FOR MORE INFO.  A SPECIFIC COLORWAY SELECTED BY THE SHOP IS BEING USED.   \nMUST HAVE ALREADY MADE THE VINTAGE ROSE. \n
URL:https://www.quiltworx.com/event/vintage-rose-express/
LOCATION:KIKI'S QUILT SHACK\, 1732 W. BULLARD\, FRESNO\, CA\, United States
CATEGORIES:Patsy Carpenter,Vintage Rose
END:VEVENT
END:VCALENDAR