BEGIN:VCALENDAR
VERSION:2.0
PRODID:-//Quiltworx.com - ECPv4.9.6//NONSGML v1.0//EN
CALSCALE:GREGORIAN
METHOD:PUBLISH
X-WR-CALNAME:Quiltworx.com
X-ORIGINAL-URL:https://www.quiltworx.com
X-WR-CALDESC:Events for Quiltworx.com
BEGIN:VTIMEZONE
TZID:"America/Denver"
BEGIN:DAYLIGHT
TZOFFSETFROM:-0700
TZOFFSETTO:-0600
TZNAME:MDT
DTSTART:20170312T090000
END:DAYLIGHT
BEGIN:STANDARD
TZOFFSETFROM:-0600
TZOFFSETTO:-0700
TZNAME:MST
DTSTART:20171105T080000
END:STANDARD
END:VTIMEZONE
BEGIN:VEVENT
DTSTART;TZID="America/Denver":20170207T080000
DTEND;TZID="America/Denver":20170207T170000
DTSTAMP:20260419T122739
CREATED:20161215T000826Z
LAST-MODIFIED:20161215T000826Z
UID:81024-1486454400-1486486800@www.quiltworx.com
SUMMARY:Vintage Rose
DESCRIPTION:Judy’s latest technique class is starting on Tuesdays in Windsor\, Colorado. \nThe first class in on February 7\, 2017 \nClasses are filling up fast! \n
URL:https://www.quiltworx.com/event/vintage-rose-2/
CATEGORIES:Sandy Lueth
ORGANIZER;CN="Patty%20Winkelman%20and%20staff":MAILTO:quilterstash@aol.om
END:VEVENT
END:VCALENDAR