BEGIN:VCALENDAR
VERSION:2.0
PRODID:-//Quiltworx.com - ECPv4.9.6//NONSGML v1.0//EN
CALSCALE:GREGORIAN
METHOD:PUBLISH
X-WR-CALNAME:Quiltworx.com
X-ORIGINAL-URL:https://www.quiltworx.com
X-WR-CALDESC:Events for Quiltworx.com
BEGIN:VTIMEZONE
TZID:"America/Denver"
BEGIN:DAYLIGHT
TZOFFSETFROM:-0700
TZOFFSETTO:-0600
TZNAME:MDT
DTSTART:20150308T090000
END:DAYLIGHT
BEGIN:STANDARD
TZOFFSETFROM:-0600
TZOFFSETTO:-0700
TZNAME:MST
DTSTART:20151101T080000
END:STANDARD
END:VTIMEZONE
BEGIN:VEVENT
DTSTART;VALUE=DATE:20151024
DTEND;VALUE=DATE:20151025
DTSTAMP:20260422T160142
CREATED:20150917T210619Z
LAST-MODIFIED:20150917T214459Z
UID:21579-1445644800-1445731199@www.quiltworx.com
SUMMARY:Vintage Compass-Pine Needles Quilt & Sew
DESCRIPTION:Join Connie in this 2 day class and make a stunning Quiltworx quilt with pieces that are a little bigger and go together quicker for the beginner or anyone. \n  \nVintage Compass is a beauty and you will no believe the sharp points you will get with Judy Niemeyer paper piecing! \n$100 includes both class sessions\, pattern and papers. \nKits are available for purchase or choose your own fabrics. \n  \nBegins Saturday\, October 24th from 10-3. \n
URL:https://www.quiltworx.com/event/vintage-compass-pine-needles-quilt-sew/
LOCATION:Pine Needles Quilt & Sew\, 1300 Salem Rd SW\, Rochester\, 55902\, United States
CATEGORIES:Vintage Compass
ORGANIZER;CN="Pine%20Needles%20Quilt%20%26amp%3B%20Sew":MAILTO:info@pnqs.net
END:VEVENT
END:VCALENDAR