BEGIN:VCALENDAR
VERSION:2.0
PRODID:-//Quiltworx.com - ECPv4.9.6//NONSGML v1.0//EN
CALSCALE:GREGORIAN
METHOD:PUBLISH
X-WR-CALNAME:Quiltworx.com
X-ORIGINAL-URL:https://www.quiltworx.com
X-WR-CALDESC:Events for Quiltworx.com
BEGIN:VTIMEZONE
TZID:"America/Denver"
BEGIN:DAYLIGHT
TZOFFSETFROM:-0700
TZOFFSETTO:-0600
TZNAME:MDT
DTSTART:20130310T090000
END:DAYLIGHT
BEGIN:STANDARD
TZOFFSETFROM:-0600
TZOFFSETTO:-0700
TZNAME:MST
DTSTART:20131103T080000
END:STANDARD
END:VTIMEZONE
BEGIN:VEVENT
DTSTART;TZID="America/Denver":20130919T130000
DTEND;TZID="America/Denver":20130922T140000
DTSTAMP:20260424T081605
CREATED:20130619T002458Z
LAST-MODIFIED:20130902T022218Z
UID:8596-1379595600-1379858400@www.quiltworx.com
SUMMARY:UFO Retreat Hosted by Catherine Erickson
DESCRIPTION:Would you like to attend a retreat where I can help you finish a class project\, get guidance on beginning a new project or help in organizing and restarting an old project?  If yes\, I have finally found the perfect place to host a Judy Niemeyer UFO retreat. \nPlease join me at Joy Ranch\, located in Florence\, South Dakota (just north of Watertown).  This is the most fabulous retreat center I have ever visited.  Here are the ten reasons I think Joy Ranch is so special: \n\nOne work table per participant.\nEnough electricity so EVERYONE can have their own iron.\n16 themed bedrooms with two queen beds (with down comforters) and a private bath.\nThe entire facility is barrier-free.\nFrom-scratch meals made and presented by Chef Ben.\nCoffee\, water for tea and hot chocolate\, cereal\, and toast available 24 hours.\nKitchenette in sewing area with refrigerator and snack-sharing area.\nAdjoining room with space for laying out quilts and large cutting projects.\nOodles of restrooms.\nFour old-fashioned claw-footed tubs for a relaxing soak.\n\nThree options to attend a Judy Niemeyer UFO Retreat: \n\nSeptember 12-15 (2 or 3 night stay)\nSeptember 19-22 (2 or 3 night stay)\n\nCost: \n\n3-night stay                        $310 ($430 for single occupancy)\nIncludes double occupancy room\, meals (supper on Thursday\, continental breakfast and supper on Friday\, brunch and supper on Saturday\, and brunch on Sunday)\, table and chair in work room\, one-on-one instruction/guidance and demos for your Judy Niemeyer project\, Judy Niemeyer Trunk Show and participant Show ‘N Tell.\n\n\n2-night stay                        $245 ($300 for single occupancy)\nIncludes double occupancy room\, meals (supper on Friday\, brunch and supper on Saturday\, and brunch on Sunday)\, table and chair in work room\, one-on-one instruction/guidance and demos for your Judy Niemeyer project\, Judy Niemeyer Trunk Show and participant Show ‘N Tell.\n\n\nNo lodging                          $125 for two days\nIncludes meals\, table and chair in work room\, one-on-one instruction/guidance and demos for your Judy Niemeyer project\, Judy Niemeyer Trunk Show and participant Show ‘N Tell.\n\nIf you have any questions about the retreat\, please call me (218/335-4138) or email me.  If you would like more information on this fabulous retreat center\, go to www.losd.org or JoyRanchLOSD on Facebook. \nReserve your spot with a $25 non-refundable deposit before September 8\, 2013. \n
URL:https://www.quiltworx.com/event/ufo-retreat-hosted-by-catherine-erickson-4/
LOCATION:Joy Ranch\, 16633-448th Avenue\, Florence\, South Dakota\, 57235\, Select a Country:
CATEGORIES:Catherine Erickson
ORGANIZER;CN="Catherine%20Erickson":MAILTO:jnqclasses@sewcatherine.com
END:VEVENT
END:VCALENDAR