BEGIN:VCALENDAR
VERSION:2.0
PRODID:-//Quiltworx.com - ECPv4.9.6//NONSGML v1.0//EN
CALSCALE:GREGORIAN
METHOD:PUBLISH
X-WR-CALNAME:Quiltworx.com
X-ORIGINAL-URL:https://www.quiltworx.com
X-WR-CALDESC:Events for Quiltworx.com
BEGIN:VTIMEZONE
TZID:"America/Denver"
BEGIN:DAYLIGHT
TZOFFSETFROM:-0700
TZOFFSETTO:-0600
TZNAME:MDT
DTSTART:20190310T090000
END:DAYLIGHT
BEGIN:STANDARD
TZOFFSETFROM:-0600
TZOFFSETTO:-0700
TZNAME:MST
DTSTART:20191103T080000
END:STANDARD
END:VTIMEZONE
BEGIN:VEVENT
DTSTART;TZID="America/Denver":20190528T100000
DTEND;TZID="America/Denver":20190529T160000
DTSTAMP:20260424T094310
CREATED:20190403T183839Z
LAST-MODIFIED:20190403T183839Z
UID:92957-1559037600-1559145600@www.quiltworx.com
SUMMARY:Twinkle Star
DESCRIPTION:
URL:https://www.quiltworx.com/event/twinkle-star-7/
LOCATION:Expert Sewing Center\, 3846 Tamiami Trail Unit D\, Port Charlotte\, FL\, United States
CATEGORIES:Sharon Ralph
END:VEVENT
END:VCALENDAR