BEGIN:VCALENDAR
VERSION:2.0
PRODID:-//Quiltworx.com - ECPv4.9.6//NONSGML v1.0//EN
CALSCALE:GREGORIAN
METHOD:PUBLISH
X-WR-CALNAME:Quiltworx.com
X-ORIGINAL-URL:https://www.quiltworx.com
X-WR-CALDESC:Events for Quiltworx.com
BEGIN:VTIMEZONE
TZID:"America/Denver"
BEGIN:DAYLIGHT
TZOFFSETFROM:-0700
TZOFFSETTO:-0600
TZNAME:MDT
DTSTART:20160313T090000
END:DAYLIGHT
BEGIN:STANDARD
TZOFFSETFROM:-0600
TZOFFSETTO:-0700
TZNAME:MST
DTSTART:20161106T080000
END:STANDARD
END:VTIMEZONE
BEGIN:VEVENT
DTSTART;TZID="America/Denver":20161104T090000
DTEND;TZID="America/Denver":20161104T100000
DTSTAMP:20260425T170712
CREATED:20161002T031127Z
LAST-MODIFIED:20161002T031127Z
UID:79745-1478250000-1478253600@www.quiltworx.com
SUMMARY:Trunk Show
DESCRIPTION:Over 20 Judy Niemeyer quilts! Come in and see\, these quilts are even more beautiful in person! \n
URL:https://www.quiltworx.com/event/trunk-show-5/
LOCATION:Eagle Creek Quilt Shop\, 333 Second Avenue West\, Shakopee\, MN\, 55379\, United States
END:VEVENT
END:VCALENDAR