BEGIN:VCALENDAR
VERSION:2.0
PRODID:-//Quiltworx.com - ECPv4.9.6//NONSGML v1.0//EN
CALSCALE:GREGORIAN
METHOD:PUBLISH
X-WR-CALNAME:Quiltworx.com
X-ORIGINAL-URL:https://www.quiltworx.com
X-WR-CALDESC:Events for Quiltworx.com
BEGIN:VTIMEZONE
TZID:"America/Denver"
BEGIN:DAYLIGHT
TZOFFSETFROM:-0700
TZOFFSETTO:-0600
TZNAME:MDT
DTSTART:20200308T090000
END:DAYLIGHT
BEGIN:STANDARD
TZOFFSETFROM:-0600
TZOFFSETTO:-0700
TZNAME:MST
DTSTART:20201101T080000
END:STANDARD
END:VTIMEZONE
BEGIN:VEVENT
DTSTART;TZID="America/Denver":20200309T150000
DTEND;TZID="America/Denver":20200315T110000
DTSTAMP:20260422T101548
CREATED:20190605T035447Z
LAST-MODIFIED:20190605T035447Z
UID:93525-1583766000-1584270000@www.quiltworx.com
SUMMARY:Traning Center- 2020 - March #1 with Judy Niemeyer
DESCRIPTION:
URL:https://www.quiltworx.com/event/traning-center-2020-march-1-with-judy-niemeyer/
LOCATION:Quiltworx Training Center Retreats\, 100 Lincoln Lane\, Kalispell\, MT\, 59901\, United States
CATEGORIES:Judy Niemeyer,Judy Niemeyer,Retreats
END:VEVENT
END:VCALENDAR