BEGIN:VCALENDAR
VERSION:2.0
PRODID:-//Quiltworx.com - ECPv4.9.6//NONSGML v1.0//EN
CALSCALE:GREGORIAN
METHOD:PUBLISH
X-WR-CALNAME:Quiltworx.com
X-ORIGINAL-URL:https://www.quiltworx.com
X-WR-CALDESC:Events for Quiltworx.com
BEGIN:VTIMEZONE
TZID:"America/Denver"
BEGIN:DAYLIGHT
TZOFFSETFROM:-0700
TZOFFSETTO:-0600
TZNAME:MDT
DTSTART:20220313T090000
END:DAYLIGHT
BEGIN:STANDARD
TZOFFSETFROM:-0600
TZOFFSETTO:-0700
TZNAME:MST
DTSTART:20221106T080000
END:STANDARD
END:VTIMEZONE
BEGIN:VEVENT
DTSTART;TZID="America/Denver":20220424T150000
DTEND;TZID="America/Denver":20220430T110000
DTSTAMP:20260420T144852
CREATED:20210618T201539Z
LAST-MODIFIED:20220325T153050Z
UID:99763-1650812400-1651316400@www.quiltworx.com
SUMMARY:Training Center - 2022 - April #1 with Judy Niemeyer and CI - FULL
DESCRIPTION:We are excited to bring you our retreats for 2022!  Our events are open events meaning you are free to bring any pattern that Quiltworx.com has designed to work on while attending your retreat. \nThis retreat will be held at the Quiltworx Training Center\, which is located at 100 Lincoln Lane\, Kalispell MT.  The Quiltworx Training Center is a full-time retreat center\, so you will be required to pay a 8% bed tax. This tax will be paid at the end of your stay during checkout. \nThere are no meals provided on the day of check-in. \nOur April #1 Retreat will include: \nCheck-in: 4/24/2022 at 3:00 p.m.\nTeaching: 4/25/2022-4/29/2022\nCheck-out: 4/30/2022 at 11:00 a.m. \nFor this retreat\, the Quiltworx  Training Center Retreat schedule will be as follows: \nJudy will be at the training center the night of check in for a couple hours to greet everyone and help you get set up. \nThe second night you will have a trunk show. \nThe retreat will include five days of teaching.  You will receive 6 hours of instruction on the teaching days.  . \nOne afternoon during the week of teaching days will be a shopping day where you can travel to the local quilt shops in the area. \nPAYMENT INFORMATION: \nIf your shopping cart is empty after you place your reservation\, there will be a link in your sign up email  to make your deposit\, so please check your email after you make your reservation.  Call or email Jennifer at (406) 393-2646 or jennifer@quiltworx.com if you have questions. We are in the office Monday-Friday\, 8 am to 4 pm. Thank you! \nAn initial deposit of $150 is due upon signup for this retreat and is NON-REFUNDABLE.  A second payment of $150 will be required in November 1\, 2021.  This payment is also NON-REFUNDABLE.  Final Payment is due in February 24\, 2022.  For more information read our Cancellation Policy PDF on the main retreat page. \nTransportation: \nNorthwest/Delta\, Alaska\, and United/Continental to Airport Code FCA \nArrow Shuttle can provide shuttle services to and from the airport to the Quiltworx Training Facility. Their number is 406-300-2301.  Please call them or visit their website for more information. \nFor more information on Quiltworx Training Center Retreats\, please click on the PDF files that are included on the main training center page. \nIn addition\, you can sign up for our newsletter on our website for more information and visit our Facebook Page. Our Facebook Page has lots of retreat information! \nThank you for your business and continued support of Judy Niemeyer Quilting! \n
URL:https://www.quiltworx.com/event/training-center-2022-april-1-with-judy-niemeyer-and-ci/
LOCATION:Quiltworx Training Center Retreats\, 100 Lincoln Lane\, Kalispell\, MT\, 59901\, United States
CATEGORIES:Judy Niemeyer,Judy Niemeyer,Retreats
ORGANIZER;CN="Quiltworx":MAILTO:retreats@quiltworx.com
END:VEVENT
END:VCALENDAR