BEGIN:VCALENDAR
VERSION:2.0
PRODID:-//Quiltworx.com - ECPv4.9.6//NONSGML v1.0//EN
CALSCALE:GREGORIAN
METHOD:PUBLISH
X-WR-CALNAME:Quiltworx.com
X-ORIGINAL-URL:https://www.quiltworx.com
X-WR-CALDESC:Events for Quiltworx.com
BEGIN:VTIMEZONE
TZID:"America/Denver"
BEGIN:DAYLIGHT
TZOFFSETFROM:-0700
TZOFFSETTO:-0600
TZNAME:MDT
DTSTART:20190310T090000
END:DAYLIGHT
BEGIN:STANDARD
TZOFFSETFROM:-0600
TZOFFSETTO:-0700
TZNAME:MST
DTSTART:20191103T080000
END:STANDARD
END:VTIMEZONE
BEGIN:VEVENT
DTSTART;TZID="America/Denver":20190120T150000
DTEND;TZID="America/Denver":20190129T110000
DTSTAMP:20260420T192749
CREATED:20180523T230249Z
LAST-MODIFIED:20180825T032026Z
UID:89018-1547996400-1548759600@www.quiltworx.com
SUMMARY:Training Center - 2019 - January Phase 2
DESCRIPTION:Our Certified Instructor January Phase 2 Retreat will include: \nCheck-in: 1/20/2019 at 3:00 p.m.\nTraining: 1/21/2019 to 1/28/2019 – 8-days\nCheck-out: 1/29/2019 at 11 a.m. \nThis retreat is designed for those who have completed all of their prerequisites to become a Certified Instructor here.  We will provide you with a supply list with what you will need to bring to the retreat. \nTHIS RETREAT DOES NOT INCLUDE FOOD. \nAir transportation: Northwest/Delta\, Alaska\, and United/Continental to Airport Code FCA \nGlacier Taxi can provide Shuttle services to and from the airport to the Quiltworx Training Facility. Their number is 406-250-3603.  Please call them for pricing. \nFor more information on our Quiltworx Training facility\, including our Cancellation Policy\, please click on the PDF files that are included on this page. \nIn addition\, you can sign up for our newsletter on our website for more information and visit our Facebook Page. \nThank you for your business and continued support of Quiltworx! \n  \n
URL:https://www.quiltworx.com/event/training-center-2019-january-phase-2/
LOCATION:Quiltworx Training Center Retreats\, 100 Lincoln Lane\, Kalispell\, MT\, 59901\, United States
CATEGORIES:Judy Niemeyer,Judy Niemeyer,Quiltworx Training Center,Retreats
ORGANIZER;CN="Katie%20Malinak":MAILTO:katie@quiltworx.com
END:VEVENT
END:VCALENDAR