BEGIN:VCALENDAR
VERSION:2.0
PRODID:-//Quiltworx.com - ECPv4.9.6//NONSGML v1.0//EN
CALSCALE:GREGORIAN
METHOD:PUBLISH
X-WR-CALNAME:Quiltworx.com
X-ORIGINAL-URL:https://www.quiltworx.com
X-WR-CALDESC:Events for Quiltworx.com
BEGIN:VTIMEZONE
TZID:"America/Denver"
BEGIN:DAYLIGHT
TZOFFSETFROM:-0700
TZOFFSETTO:-0600
TZNAME:MDT
DTSTART:20230312T090000
END:DAYLIGHT
BEGIN:STANDARD
TZOFFSETFROM:-0600
TZOFFSETTO:-0700
TZNAME:MST
DTSTART:20231105T080000
END:STANDARD
END:VTIMEZONE
BEGIN:VEVENT
DTSTART;TZID="America/Denver":20230613T093000
DTEND;TZID="America/Denver":20230617T160000
DTSTAMP:20260424T172724
CREATED:20230112T162547Z
LAST-MODIFIED:20230112T162547Z
UID:105562-1686648600-1687017600@www.quiltworx.com
SUMMARY:Tequila Lime Retreat - Thimbles (Lockport\, IL)
DESCRIPTION:
URL:https://www.quiltworx.com/event/tequila-lime-retreat-thimbles-lockport-il/
LOCATION:Thimbles\, 940 S. State St.\, Lockport\, IL\, 60442\, United States
CATEGORIES:Jodie Madison
END:VEVENT
END:VCALENDAR