BEGIN:VCALENDAR
VERSION:2.0
PRODID:-//Quiltworx.com - ECPv4.9.6//NONSGML v1.0//EN
CALSCALE:GREGORIAN
METHOD:PUBLISH
X-WR-CALNAME:Quiltworx.com
X-ORIGINAL-URL:https://www.quiltworx.com
X-WR-CALDESC:Events for Quiltworx.com
BEGIN:VTIMEZONE
TZID:"America/Denver"
BEGIN:DAYLIGHT
TZOFFSETFROM:-0700
TZOFFSETTO:-0600
TZNAME:MDT
DTSTART:20230312T090000
END:DAYLIGHT
BEGIN:STANDARD
TZOFFSETFROM:-0600
TZOFFSETTO:-0700
TZNAME:MST
DTSTART:20231105T080000
END:STANDARD
END:VTIMEZONE
BEGIN:VEVENT
DTSTART;TZID="America/Denver":20230429T100000
DTEND;TZID="America/Denver":20230429T170000
DTSTAMP:20260424T210841
CREATED:20230218T150923Z
LAST-MODIFIED:20230218T150923Z
UID:105984-1682762400-1682787600@www.quiltworx.com
SUMMARY:Sundial
DESCRIPTION:Class 2 of 2 making this beautiful quilt \n
URL:https://www.quiltworx.com/event/sundial-4/
LOCATION:Sewing and Vacuum Authority\, 10494 Westport Rd\, Louisville\, KY\, 40241\, United States
CATEGORIES:Debbie Dison,Sundial
END:VEVENT
END:VCALENDAR