BEGIN:VCALENDAR
VERSION:2.0
PRODID:-//Quiltworx.com - ECPv4.9.6//NONSGML v1.0//EN
CALSCALE:GREGORIAN
METHOD:PUBLISH
X-WR-CALNAME:Quiltworx.com
X-ORIGINAL-URL:https://www.quiltworx.com
X-WR-CALDESC:Events for Quiltworx.com
BEGIN:VTIMEZONE
TZID:"America/Denver"
BEGIN:DAYLIGHT
TZOFFSETFROM:-0700
TZOFFSETTO:-0600
TZNAME:MDT
DTSTART:20130310T090000
END:DAYLIGHT
BEGIN:STANDARD
TZOFFSETFROM:-0600
TZOFFSETTO:-0700
TZNAME:MST
DTSTART:20131103T080000
END:STANDARD
END:VTIMEZONE
BEGIN:VEVENT
DTSTART;TZID="America/Denver":20130322T093000
DTEND;TZID="America/Denver":20130322T140000
DTSTAMP:20260420T013416
CREATED:20130314T155141Z
LAST-MODIFIED:20130314T160510Z
UID:6676-1363944600-1363960800@www.quiltworx.com
SUMMARY:Stepping Stones class
DESCRIPTION:
URL:https://www.quiltworx.com/event/stepping-stones-class/
CATEGORIES:Lotus Fabrics,Shops,Stepping Stones
END:VEVENT
END:VCALENDAR