BEGIN:VCALENDAR
VERSION:2.0
PRODID:-//Quiltworx.com - ECPv4.9.6//NONSGML v1.0//EN
CALSCALE:GREGORIAN
METHOD:PUBLISH
X-WR-CALNAME:Quiltworx.com
X-ORIGINAL-URL:https://www.quiltworx.com
X-WR-CALDESC:Events for Quiltworx.com
BEGIN:VTIMEZONE
TZID:"America/Denver"
BEGIN:DAYLIGHT
TZOFFSETFROM:-0700
TZOFFSETTO:-0600
TZNAME:MDT
DTSTART:20200308T090000
END:DAYLIGHT
BEGIN:STANDARD
TZOFFSETFROM:-0600
TZOFFSETTO:-0700
TZNAME:MST
DTSTART:20201101T080000
END:STANDARD
END:VTIMEZONE
BEGIN:VEVENT
DTSTART;TZID="America/Denver":20200724T100000
DTEND;TZID="America/Denver":20200724T160000
DTSTAMP:20260423T090409
CREATED:20200605T184125Z
LAST-MODIFIED:20200605T184125Z
UID:97288-1595584800-1595606400@www.quiltworx.com
SUMMARY:Star Baby\, Wintergreen or Iceberg Ridge cutting class\, Wise Monkey Quilt Shop\, Denison\, IA\, July 24\, 2020
DESCRIPTION:
URL:https://www.quiltworx.com/event/star-baby-wintergreen-or-iceberg-ridge-cutting-class-wise-monkey-quilt-shop-denison-ia-july-24-2020/
LOCATION:Wise Monkey Quilts\, 501 Highway 39 N\, Dennison\, IA\, 51442\, United States
CATEGORIES:Connie Lange
END:VEVENT
END:VCALENDAR