BEGIN:VCALENDAR
VERSION:2.0
PRODID:-//Quiltworx.com - ECPv4.9.6//NONSGML v1.0//EN
CALSCALE:GREGORIAN
METHOD:PUBLISH
X-WR-CALNAME:Quiltworx.com
X-ORIGINAL-URL:https://www.quiltworx.com
X-WR-CALDESC:Events for Quiltworx.com
BEGIN:VTIMEZONE
TZID:"America/Denver"
BEGIN:DAYLIGHT
TZOFFSETFROM:-0700
TZOFFSETTO:-0600
TZNAME:MDT
DTSTART:20190310T090000
END:DAYLIGHT
BEGIN:STANDARD
TZOFFSETFROM:-0600
TZOFFSETTO:-0700
TZNAME:MST
DTSTART:20191103T080000
END:STANDARD
END:VTIMEZONE
BEGIN:VEVENT
DTSTART;TZID="America/Denver":20190327T180000
DTEND;TZID="America/Denver":20190327T203000
DTSTAMP:20260424T013010
CREATED:20190301T012519Z
LAST-MODIFIED:20190307T093914Z
UID:92668-1553709600-1553718600@www.quiltworx.com
SUMMARY:Stained Glass - Cut Loose Press
DESCRIPTION:Homestead Quilting and Fabrics \nClass 3 of 3 \n
URL:https://www.quiltworx.com/event/stained-glass-cut-loose-press-3/
LOCATION:Homestead Quilting and Fabric\, 54 Main Street\, Lakeville\, MA\, 02347\, United States
CATEGORIES:Cheryl Martel,Quiltworx Stained Glass Window
ORGANIZER;CN="Cheryl%20Martel":MAILTO:quiltcrazy57@hotmail.com
END:VEVENT
END:VCALENDAR