BEGIN:VCALENDAR
VERSION:2.0
PRODID:-//Quiltworx.com - ECPv4.9.6//NONSGML v1.0//EN
CALSCALE:GREGORIAN
METHOD:PUBLISH
X-WR-CALNAME:Quiltworx.com
X-ORIGINAL-URL:https://www.quiltworx.com
X-WR-CALDESC:Events for Quiltworx.com
BEGIN:VTIMEZONE
TZID:"America/Denver"
BEGIN:DAYLIGHT
TZOFFSETFROM:-0700
TZOFFSETTO:-0600
TZNAME:MDT
DTSTART:20170312T090000
END:DAYLIGHT
BEGIN:STANDARD
TZOFFSETFROM:-0600
TZOFFSETTO:-0700
TZNAME:MST
DTSTART:20171105T080000
END:STANDARD
END:VTIMEZONE
BEGIN:VEVENT
DTSTART;TZID="America/Denver":20170523T093000
DTEND;TZID="America/Denver":20170523T160000
DTSTAMP:20260423T163558
CREATED:20170524T021614Z
LAST-MODIFIED:20170524T021614Z
UID:83975-1495531800-1495555200@www.quiltworx.com
SUMMARY:Splash #1 of 2.
DESCRIPTION:Come join me at Sew Trendy MN\, in Eagan\, MN for their first ever Quiltworx Class! Rachel is going to be offering lots of Quiltworx classes.  She is also offering a Judy Niemeyer Support Session one Wednesday a month.  I will be teaching the classes and will be there for support on the Wednesdays.  Please join us! \n
URL:https://www.quiltworx.com/event/splash-1-of-2/
LOCATION:Sew Trendy MN\, 1964 Rahncliff Ct.  #600\, Eagan\, MN\, 55122\, United States
CATEGORIES:Sandra Kollath,Splash
ORGANIZER;CN="Sew%20Trendy%20MN":MAILTO:rachmon@yahoo.com
END:VEVENT
END:VCALENDAR