BEGIN:VCALENDAR
VERSION:2.0
PRODID:-//Quiltworx.com - ECPv4.9.6//NONSGML v1.0//EN
CALSCALE:GREGORIAN
METHOD:PUBLISH
X-WR-CALNAME:Quiltworx.com
X-ORIGINAL-URL:https://www.quiltworx.com
X-WR-CALDESC:Events for Quiltworx.com
BEGIN:VTIMEZONE
TZID:"America/Denver"
BEGIN:DAYLIGHT
TZOFFSETFROM:-0700
TZOFFSETTO:-0600
TZNAME:MDT
DTSTART:20170312T090000
END:DAYLIGHT
BEGIN:STANDARD
TZOFFSETFROM:-0600
TZOFFSETTO:-0700
TZNAME:MST
DTSTART:20171105T080000
END:STANDARD
END:VTIMEZONE
BEGIN:VEVENT
DTSTART;TZID="America/Denver":20170920T100000
DTEND;TZID="America/Denver":20170920T150000
DTSTAMP:20260422T192143
CREATED:20170830T222720Z
LAST-MODIFIED:20170830T222720Z
UID:85710-1505901600-1505919600@www.quiltworx.com
SUMMARY:Sew Judy Support Group
DESCRIPTION:Please join me at Sew Trendy MN in Eagan\, MN.  Bring in any Judy project you’d like and sew with other Judy fans.  I will be there to offer any help or support you need! \n
URL:https://www.quiltworx.com/event/sew-judy-support-group/
LOCATION:Sew Trendy MN\, 1964 Rahncliff Ct.  #600\, Eagan\, MN\, 55122\, United States
CATEGORIES:Sandra Kollath
ORGANIZER;CN="Sew%20Trendy%20MN":MAILTO:rachmon@yahoo.com
END:VEVENT
END:VCALENDAR