BEGIN:VCALENDAR
VERSION:2.0
PRODID:-//Quiltworx.com - ECPv4.9.6//NONSGML v1.0//EN
CALSCALE:GREGORIAN
METHOD:PUBLISH
X-WR-CALNAME:Quiltworx.com
X-ORIGINAL-URL:https://www.quiltworx.com
X-WR-CALDESC:Events for Quiltworx.com
BEGIN:VTIMEZONE
TZID:"America/Chicago"
BEGIN:DAYLIGHT
TZOFFSETFROM:-0600
TZOFFSETTO:-0500
TZNAME:CDT
DTSTART:20210314T080000
END:DAYLIGHT
BEGIN:STANDARD
TZOFFSETFROM:-0500
TZOFFSETTO:-0600
TZNAME:CST
DTSTART:20211107T070000
END:STANDARD
END:VTIMEZONE
BEGIN:VEVENT
DTSTART;TZID="America/Chicago":20210511T090000
DTEND;TZID="America/Chicago":20210511T153000
DTSTAMP:20260421T060154
CREATED:20210311T211758Z
LAST-MODIFIED:20210311T211758Z
UID:97784-1620723600-1620747000@www.quiltworx.com
SUMMARY:Rustic Mountain Snowflake\, Lincoln Nebraska Quilt Guild Workshop\, Lincoln\, NE\, May 11\, 2021
DESCRIPTION:
URL:https://www.quiltworx.com/event/rustic-mountain-snowflake-lincoln-nebraska-quilt-guild-workshop-lincoln-ne-may-11-2021/
LOCATION:International Quilt Museum\, 1523 N. 33rd St. & Holdrege St.\, Lincoln\, NE\, 68503\, United States
CATEGORIES:Connie Lange,Rustic Mountain Snowflake
END:VEVENT
END:VCALENDAR