BEGIN:VCALENDAR
VERSION:2.0
PRODID:-//Quiltworx.com - ECPv4.9.6//NONSGML v1.0//EN
CALSCALE:GREGORIAN
METHOD:PUBLISH
X-WR-CALNAME:Quiltworx.com
X-ORIGINAL-URL:https://www.quiltworx.com
X-WR-CALDESC:Events for Quiltworx.com
BEGIN:VTIMEZONE
TZID:"America/New_York"
BEGIN:DAYLIGHT
TZOFFSETFROM:-0500
TZOFFSETTO:-0400
TZNAME:EDT
DTSTART:20220313T070000
END:DAYLIGHT
BEGIN:STANDARD
TZOFFSETFROM:-0400
TZOFFSETTO:-0500
TZNAME:EST
DTSTART:20221106T060000
END:STANDARD
END:VTIMEZONE
BEGIN:VEVENT
DTSTART;TZID="America/New_York":20220526T120000
DTEND;TZID="America/New_York":20220526T180000
DTSTAMP:20260420T160147
CREATED:20220317T135903Z
LAST-MODIFIED:20220317T232556Z
UID:103294-1653566400-1653588000@www.quiltworx.com
SUMMARY:Quiltworx Technique Quilt - open sew
DESCRIPTION:Bring any Quiltworx work in progress to The Masquerade studio at 4 Joanna Rd in Salem between noon and 6pm and CI Donna Viau will help guide you to the perfect finish! Open sew workshops happen every other Thursday at The Masquerade. Contact Donna by text at 603-275-0717 to check seat availability. \n
URL:https://www.quiltworx.com/event/quiltworx-technique-quilt-open-sew-5/
LOCATION:The Masquerade Costumes & Quilts\, 4 Joanna Rd\, Salem\, NH\, 03079\, United States
CATEGORIES:Dinner Plate Dahlia,Donna Viau,Donna Viau,Glacier Star,Summer Solstice,The Masquerade Costumes & Quilts
ORGANIZER;CN="Donna%20Viau":MAILTO:TheMasqueradeNH@gmail.com
END:VEVENT
END:VCALENDAR