BEGIN:VCALENDAR
VERSION:2.0
PRODID:-//Quiltworx.com - ECPv4.9.6//NONSGML v1.0//EN
CALSCALE:GREGORIAN
METHOD:PUBLISH
X-WR-CALNAME:Quiltworx.com
X-ORIGINAL-URL:https://www.quiltworx.com
X-WR-CALDESC:Events for Quiltworx.com
BEGIN:VTIMEZONE
TZID:"America/Denver"
BEGIN:DAYLIGHT
TZOFFSETFROM:-0700
TZOFFSETTO:-0600
TZNAME:MDT
DTSTART:20230312T090000
END:DAYLIGHT
BEGIN:STANDARD
TZOFFSETFROM:-0600
TZOFFSETTO:-0700
TZNAME:MST
DTSTART:20231105T080000
END:STANDARD
END:VTIMEZONE
BEGIN:VEVENT
DTSTART;TZID="America/Denver":20230531T150000
DTEND;TZID="America/Denver":20230604T120000
DTSTAMP:20260424T140823
CREATED:20210219T143121Z
LAST-MODIFIED:20221220T174408Z
UID:98846-1685545200-1685880000@www.quiltworx.com
SUMMARY:Fractured Sparkle Retreat with CI Jackie Holkum - Quiltagious Quarters (Celeste\, TX) - May 31 - Jun 4\, 2023
DESCRIPTION:Join Jackie for this 4 day retreat at Quiltagious Quarters Retreat Center in Celeste\, TX.  This special retreat will cover the process of making a Quiltworx pattern from start to finish.  That’s right – just come with fabric strips cut – no other preparation needed! \nYou will: \n\nOrganize pattern binder to include any pattern corrections\nTrim newsprint pages (foundation papers\, templates and template layout sheets)\nCut fabric strips into pieces needed for paper piecing\nOrganize newsprint and fabric pieces into zip bags ready to sew\nLearn Quiltworx techniques for paper piecing (including Lone Star paper piecing)\nLearn quilt assembly methodology\n\nThe pattern for the retreat is called Fractured Sparkle – an unpublished variation of the newly released Sparkle pattern.  Two colorways are available for your selection.  More information can be found here: http://www.quiltagiousquarters.com/module/class.htm?classId=238556.  To sign up\, email me at jhquiltdesigns@gmail.com. \n \nUses (8) fabrics of one color ranging from light to dark\, (1) light fabric\, and (1) dark fabric. \n\n \nUses (1) Quiltworx strip set\, (2) light fabrics and (1) dark fabric. \n\n  \n
URL:https://www.quiltworx.com/event/quiltworx-retreat-with-ci-jackie-holkum-quiltagious-quarters-celeste-tx-jan-5-8-2023/
LOCATION:Quiltagious Quarters Retreat Center\, 101 S 3rd St\, Celeste\, \, TX\, 75423\, United States
CATEGORIES:Jackie Holkum
ORGANIZER;CN="Jackie%20Holkum":MAILTO:jhquiltdesigns@gmail.com
END:VEVENT
END:VCALENDAR