BEGIN:VCALENDAR
VERSION:2.0
PRODID:-//Quiltworx.com - ECPv4.9.6//NONSGML v1.0//EN
CALSCALE:GREGORIAN
METHOD:PUBLISH
X-WR-CALNAME:Quiltworx.com
X-ORIGINAL-URL:https://www.quiltworx.com
X-WR-CALDESC:Events for Quiltworx.com
BEGIN:VTIMEZONE
TZID:"America/Denver"
BEGIN:DAYLIGHT
TZOFFSETFROM:-0700
TZOFFSETTO:-0600
TZNAME:MDT
DTSTART:20230312T090000
END:DAYLIGHT
BEGIN:STANDARD
TZOFFSETFROM:-0600
TZOFFSETTO:-0700
TZNAME:MST
DTSTART:20231105T080000
END:STANDARD
END:VTIMEZONE
BEGIN:VEVENT
DTSTART;TZID="America/Denver":20230112T190000
DTEND;TZID="America/Denver":20230115T130000
DTSTAMP:20260420T161131
CREATED:20220628T121557Z
LAST-MODIFIED:20220628T121557Z
UID:104172-1673550000-1673787600@www.quiltworx.com
SUMMARY:Quiltworx Retreat at Creative Passions Retreat Center with CI Nancy Kloster
DESCRIPTION:Join me at Creative Passions Retreat Center in Chesaning\, MI . Accommodations will be in the beautiful Retreat Center … all workshops\, meals and sleeping in one location allows you more time to sew\, even until the early hours of the morning! \nYou may select ANY Quiltworx pattern! If you are new to Foundation Paper Piecing the Quiltworx way… then may I highly suggest the Desert Sky or Fractured Star patterns.  I can help you with fabric selections and Creative Passions Quilt Shop can have a kit ready for you when you arrive! \nThursday\, January 12\, 2023 – Sunday\, January 15\, 2023 \nFor more information and to sign up please visit the link below. \nhttps://www.creativepassionsllc.com/nancy-kloster-jan-12-15-2023.htm \n  \n
URL:https://www.quiltworx.com/event/quiltworx-retreat-at-creative-passions-retreat-center-with-ci-nancy-kloster/
LOCATION:Creative Passions Crop and Quilt Retreat Center\, 710 W. Broad St.\, Chesaning\, MI\, 48616\, United States
CATEGORIES:Desert Sky,Fractured Star,Nancy Kloster
ATTACH;FMTTYPE=image/jpeg:https://d90udyyio1r4.cloudfront.net/wp-content/uploads/2020/02/Fractured-Star-Spice-Cabinet-CS.jpg
ORGANIZER;CN="Creative%20Passions%20Crop%20and%20Quilt%20Retreat%20Center":MAILTO:lgreenfelder@hotmail.com
END:VEVENT
END:VCALENDAR