BEGIN:VCALENDAR
VERSION:2.0
PRODID:-//Quiltworx.com - ECPv4.9.6//NONSGML v1.0//EN
CALSCALE:GREGORIAN
METHOD:PUBLISH
X-WR-CALNAME:Quiltworx.com
X-ORIGINAL-URL:https://www.quiltworx.com
X-WR-CALDESC:Events for Quiltworx.com
BEGIN:VTIMEZONE
TZID:"America/Denver"
BEGIN:DAYLIGHT
TZOFFSETFROM:-0700
TZOFFSETTO:-0600
TZNAME:MDT
DTSTART:20150308T090000
END:DAYLIGHT
BEGIN:STANDARD
TZOFFSETFROM:-0600
TZOFFSETTO:-0700
TZNAME:MST
DTSTART:20151101T080000
END:STANDARD
END:VTIMEZONE
BEGIN:VEVENT
DTSTART;TZID="America/Denver":20150205T093000
DTEND;TZID="America/Denver":20150205T160000
DTSTAMP:20260419T221913
CREATED:20150123T104908Z
LAST-MODIFIED:20150123T112124Z
UID:17255-1423128600-1423152000@www.quiltworx.com
SUMMARY:Quiltworx Club @ PiP 1st
DESCRIPTION:Choose any of Judy’s patterns and join us for a day of fun\, piecing them together. Every 1st and 3rd Thursday of the month. \n
URL:https://www.quiltworx.com/event/quiltworx-club-6/2015-02-05/
CATEGORIES:Patchwork In Port
END:VEVENT
END:VCALENDAR