BEGIN:VCALENDAR
VERSION:2.0
PRODID:-//Quiltworx.com - ECPv4.9.6//NONSGML v1.0//EN
CALSCALE:GREGORIAN
METHOD:PUBLISH
X-WR-CALNAME:Quiltworx.com
X-ORIGINAL-URL:https://www.quiltworx.com
X-WR-CALDESC:Events for Quiltworx.com
BEGIN:VTIMEZONE
TZID:"America/Denver"
BEGIN:DAYLIGHT
TZOFFSETFROM:-0700
TZOFFSETTO:-0600
TZNAME:MDT
DTSTART:20200308T090000
END:DAYLIGHT
BEGIN:STANDARD
TZOFFSETFROM:-0600
TZOFFSETTO:-0700
TZNAME:MST
DTSTART:20201101T080000
END:STANDARD
END:VTIMEZONE
BEGIN:VEVENT
DTSTART;TZID="America/Denver":20200921T103000
DTEND;TZID="America/Denver":20200921T150000
DTSTAMP:20260421T032552
CREATED:20200903T132625Z
LAST-MODIFIED:20200903T132625Z
UID:97665-1600684200-1600700400@www.quiltworx.com
SUMMARY:Quiltworx Add a Quarter Club with CI Nancy Kloster
DESCRIPTION:Whether you are new to Quiltworx Foundation Paper Piecing Patterns OR a seasoned Foundation Paper Piecer using Quiltworx Patterns\, you are invited to join CI Nancy Kloster at the beautiful Decorative Stitch Quilt Shop in Shelby Township\, MI. \nYou are free to work on the featured pattern of the Month or bring a Quiltworx pattern you have on your bucket list. Maybe even a Quiltworx pattern already in progress. Quiltworx Certified Instructor Nancy Kloster will be ready to help you complete them. \nMonday\, September 21\, 2020 – Featured StarBaby Pattern – 10:30am – 3:00pm \nTo visit Decorative Stitch website please click here \n
URL:https://www.quiltworx.com/event/quiltworx-add-a-quarter-club-with-ci-nancy-kloster/
LOCATION:Decorative Stitch\, 48814 Van Dyke\, Shelby Township\, MI\, 48317\, United States
CATEGORIES:Nancy Kloster
ATTACH;FMTTYPE=image/jpeg:https://d90udyyio1r4.cloudfront.net/wp-content/uploads/2019/10/Starbaby-Cortez-CS.jpg
END:VEVENT
END:VCALENDAR