BEGIN:VCALENDAR
VERSION:2.0
PRODID:-//Quiltworx.com - ECPv4.9.6//NONSGML v1.0//EN
CALSCALE:GREGORIAN
METHOD:PUBLISH
X-WR-CALNAME:Quiltworx.com
X-ORIGINAL-URL:https://www.quiltworx.com
X-WR-CALDESC:Events for Quiltworx.com
BEGIN:VTIMEZONE
TZID:"America/Vancouver"
BEGIN:DAYLIGHT
TZOFFSETFROM:-0800
TZOFFSETTO:-0700
TZNAME:PDT
DTSTART:20230312T100000
END:DAYLIGHT
BEGIN:STANDARD
TZOFFSETFROM:-0700
TZOFFSETTO:-0800
TZNAME:PST
DTSTART:20231105T090000
END:STANDARD
END:VTIMEZONE
BEGIN:VEVENT
DTSTART;TZID="America/Vancouver":20230519T103000
DTEND;TZID="America/Vancouver":20230609T153000
DTSTAMP:20260422T141049
CREATED:20230211T170135Z
LAST-MODIFIED:20230211T170135Z
UID:105878-1684492200-1686324600@www.quiltworx.com
SUMMARY:Quiltworx 101 - the Basics starting with Starbaby - 2 class series
DESCRIPTION: \nHave you been afraid to join a Quiltworx (Judy Niemeyer) foundation paper-piecing class? Well\, fear no more as Quiltworx Certified Instructor Carin Brimley walks you through this adorable project\, start to finish. \nThe Starbaby Quilt pattern teaches two easy-to-pick-up techniques that are a gateway to larger projects with more techniques. This charming little lone star pattern gives you papers to make two quilts\, too! How great is that?! Grab a friend or two and learn something new. \nThis project finishes at 32”x32” but a border option makes it 40”x40”. \nIn this class\, you’ll learn Quiltworx projects techniques such as organizing\, cutting\, stacking\, chain piecing\, strip piecing\, smart corners\, and the use of Transition and Registration Point (TRP) Lines. \nFABRIC SELECTION: Contact CARIN to schedule your FREE one-on-one personal consult for fabric selection using the Quiltster program. This will take 60-90 minutes via Zoom. 206-334-1635 or SpumoniGardenQuilts@gmail.com. \n  \n\n$125 Class Fee includes pattern. Pick it up when/after you register for class.\n\n\n\n\n\n\n\nFri\, May 19\, 2023 at 10:30 am to 3:30 pm\nFri\, Jun 9\, 2023 at 10:30 am to 3:30 pm\n\n\n\nhttps://www.quiltingmayhem.com/module/class/487819/quiltworx-101starbabyjudy-niemeyer \n\n\n
URL:https://www.quiltworx.com/event/quiltworx-101-the-basics-starting-with-starbaby-2-class-series/2023-05-19/
LOCATION:Quilting Mayhem\, 1011 Second Street\, Snohoimish\, WA\, 98290\, United States
CATEGORIES:Carin Brimley
ORGANIZER;CN="Carin%20Brimley":MAILTO:spumonigardenquilts@gmail.com
END:VEVENT
END:VCALENDAR