BEGIN:VCALENDAR
VERSION:2.0
PRODID:-//Quiltworx.com - ECPv4.9.6//NONSGML v1.0//EN
CALSCALE:GREGORIAN
METHOD:PUBLISH
X-WR-CALNAME:Quiltworx.com
X-ORIGINAL-URL:https://www.quiltworx.com
X-WR-CALDESC:Events for Quiltworx.com
BEGIN:VTIMEZONE
TZID:"America/Denver"
BEGIN:DAYLIGHT
TZOFFSETFROM:-0700
TZOFFSETTO:-0600
TZNAME:MDT
DTSTART:20130310T090000
END:DAYLIGHT
BEGIN:STANDARD
TZOFFSETFROM:-0600
TZOFFSETTO:-0700
TZNAME:MST
DTSTART:20131103T080000
END:STANDARD
END:VTIMEZONE
BEGIN:VEVENT
DTSTART;TZID="America/Denver":20130126T090000
DTEND;TZID="America/Denver":20130126T160000
DTSTAMP:20260423T205548
CREATED:20130111T020212Z
LAST-MODIFIED:20130115T040302Z
UID:4898-1359190800-1359216000@www.quiltworx.com
SUMMARY:Quilters Connection Guild - Desert Sky Workshop - Watertown\, MA
DESCRIPTION:A 1-day workshop teaching the Desert Sky block. \n
URL:https://www.quiltworx.com/event/quilters-connection-guild-desert-sky-workshop-watertown-ma/
LOCATION:Arsenal Center for the Arts\, 321 Arsenal Street\, Watertown\, MA\, 02472\, United States
CATEGORIES:Desert Sky,Ginny Radloff,Instructor,Patterns
END:VEVENT
END:VCALENDAR