BEGIN:VCALENDAR
VERSION:2.0
PRODID:-//Quiltworx.com - ECPv4.9.6//NONSGML v1.0//EN
CALSCALE:GREGORIAN
METHOD:PUBLISH
X-WR-CALNAME:Quiltworx.com
X-ORIGINAL-URL:https://www.quiltworx.com
X-WR-CALDESC:Events for Quiltworx.com
BEGIN:VTIMEZONE
TZID:"America/Denver"
BEGIN:DAYLIGHT
TZOFFSETFROM:-0700
TZOFFSETTO:-0600
TZNAME:MDT
DTSTART:20130310T090000
END:DAYLIGHT
BEGIN:STANDARD
TZOFFSETFROM:-0600
TZOFFSETTO:-0700
TZNAME:MST
DTSTART:20131103T080000
END:STANDARD
END:VTIMEZONE
BEGIN:VEVENT
DTSTART;TZID="America/Denver":20130127T090000
DTEND;TZID="America/Denver":20130127T160000
DTSTAMP:20260423T155311
CREATED:20130111T021009Z
LAST-MODIFIED:20130115T035456Z
UID:4900-1359277200-1359302400@www.quiltworx.com
SUMMARY:Quilters Connection Guild - Desert Sky Workshop - Watertown\, MA
DESCRIPTION:Desert Sky block workshop 9:00 – 4:00 are Arsenal Center for the Arts \n
URL:https://www.quiltworx.com/event/quilters-connection-guild-desert-sky-workshop-watertown-ma-3/
LOCATION:Arsenal Center for the Arts\, 321 Arsenal Street\, Watertown\, MA\, 02472\, United States
CATEGORIES:Desert Sky,Ginny Radloff,Instructor
END:VEVENT
END:VCALENDAR