BEGIN:VCALENDAR
VERSION:2.0
PRODID:-//Quiltworx.com - ECPv4.9.6//NONSGML v1.0//EN
CALSCALE:GREGORIAN
METHOD:PUBLISH
X-WR-CALNAME:Quiltworx.com
X-ORIGINAL-URL:https://www.quiltworx.com
X-WR-CALDESC:Events for Quiltworx.com
BEGIN:VTIMEZONE
TZID:"America/Denver"
BEGIN:DAYLIGHT
TZOFFSETFROM:-0700
TZOFFSETTO:-0600
TZNAME:MDT
DTSTART:20180311T090000
END:DAYLIGHT
BEGIN:STANDARD
TZOFFSETFROM:-0600
TZOFFSETTO:-0700
TZNAME:MST
DTSTART:20181104T080000
END:STANDARD
END:VTIMEZONE
BEGIN:VEVENT
DTSTART;TZID="America/Denver":20180127T103000
DTEND;TZID="America/Denver":20180127T163000
DTSTAMP:20260419T203553
CREATED:20170820T062824Z
LAST-MODIFIED:20170820T062824Z
UID:85580-1517049000-1517070600@www.quiltworx.com
SUMMARY:Promise Ring Table Topper
DESCRIPTION:For more information\, please click here. \n
URL:https://www.quiltworx.com/event/promise-ring-table-topper/
LOCATION:RMC Quilts\, 3909 Pine Grove Ave.\, Fort Gratiot\, MI\, 48059\, United States
CATEGORIES:Nancy Kloster,Promise Ring
ATTACH;FMTTYPE=image/jpeg:https://d90udyyio1r4.cloudfront.net/wp-content/uploads/2013/10/Promise-Ring-CLP-Coversheet_600.jpg
END:VEVENT
END:VCALENDAR