BEGIN:VCALENDAR
VERSION:2.0
PRODID:-//Quiltworx.com - ECPv4.9.6//NONSGML v1.0//EN
CALSCALE:GREGORIAN
METHOD:PUBLISH
X-WR-CALNAME:Quiltworx.com
X-ORIGINAL-URL:https://www.quiltworx.com
X-WR-CALDESC:Events for Quiltworx.com
BEGIN:VTIMEZONE
TZID:"America/Chicago"
BEGIN:DAYLIGHT
TZOFFSETFROM:-0600
TZOFFSETTO:-0500
TZNAME:CDT
DTSTART:20230312T080000
END:DAYLIGHT
BEGIN:STANDARD
TZOFFSETFROM:-0500
TZOFFSETTO:-0600
TZNAME:CST
DTSTART:20231105T070000
END:STANDARD
END:VTIMEZONE
BEGIN:VEVENT
DTSTART;TZID="America/Chicago":20230915T093000
DTEND;TZID="America/Chicago":20230917T160000
DTSTAMP:20260424T115540
CREATED:20221117T204426Z
LAST-MODIFIED:20221117T204426Z
UID:105262-1694770200-1694966400@www.quiltworx.com
SUMMARY:Private Retreat\, September 15\, 16\, 17\, 2023
DESCRIPTION:
URL:https://www.quiltworx.com/event/private-retreat-september-15-16-17-2023/
CATEGORIES:Connie Lange
END:VEVENT
END:VCALENDAR