BEGIN:VCALENDAR
VERSION:2.0
PRODID:-//Quiltworx.com - ECPv4.9.6//NONSGML v1.0//EN
CALSCALE:GREGORIAN
METHOD:PUBLISH
X-WR-CALNAME:Quiltworx.com
X-ORIGINAL-URL:https://www.quiltworx.com
X-WR-CALDESC:Events for Quiltworx.com
BEGIN:VTIMEZONE
TZID:"America/Denver"
BEGIN:DAYLIGHT
TZOFFSETFROM:-0700
TZOFFSETTO:-0600
TZNAME:MDT
DTSTART:20160313T090000
END:DAYLIGHT
BEGIN:STANDARD
TZOFFSETFROM:-0600
TZOFFSETTO:-0700
TZNAME:MST
DTSTART:20161106T080000
END:STANDARD
END:VTIMEZONE
BEGIN:VEVENT
DTSTART;TZID="America/Denver":20161007T150000
DTEND;TZID="America/Denver":20161014T110000
DTSTAMP:20260425T105350
CREATED:20160927T023306Z
LAST-MODIFIED:20160927T023306Z
UID:79704-1475852400-1476442800@www.quiltworx.com
SUMMARY:Private Retreat - 2016 - Quilter's Quest
DESCRIPTION:Private Retreat Quilter’s Quest \n  \n\n\n\nReservation Info:\nOctober 10/9/2016-10/14/2016\n\n\n\nDeb +1 coming in on 7th\n\n\n\nLunch catered Mon-Thurs\n\n\n\n
URL:https://www.quiltworx.com/event/private-retreat-2016-quilters-quest/
LOCATION:Quiltworx Training Center\, 100 Lincoln Lane\, Kalispel\, MT\, 59901\, United States
ORGANIZER;CN="Katie%20Malinak":MAILTO:katie@quiltworx.com
END:VEVENT
END:VCALENDAR