BEGIN:VCALENDAR
VERSION:2.0
PRODID:-//Quiltworx.com - ECPv4.9.6//NONSGML v1.0//EN
CALSCALE:GREGORIAN
METHOD:PUBLISH
X-WR-CALNAME:Quiltworx.com
X-ORIGINAL-URL:https://www.quiltworx.com
X-WR-CALDESC:Events for Quiltworx.com
BEGIN:VTIMEZONE
TZID:"America/Denver"
BEGIN:DAYLIGHT
TZOFFSETFROM:-0700
TZOFFSETTO:-0600
TZNAME:MDT
DTSTART:20150308T090000
END:DAYLIGHT
BEGIN:STANDARD
TZOFFSETFROM:-0600
TZOFFSETTO:-0700
TZNAME:MST
DTSTART:20151101T080000
END:STANDARD
END:VTIMEZONE
BEGIN:VEVENT
DTSTART;TZID="America/Denver":20150919T060000
DTEND;TZID="America/Denver":20150919T170000
DTSTAMP:20260425T002713
CREATED:20150829T030854Z
LAST-MODIFIED:20150829T030854Z
UID:21132-1442642400-1442682000@www.quiltworx.com
SUMMARY:Prismatic Star
DESCRIPTION:This stunning exploding star quilt is made from 2 1/2″ strips\, sashing and backgrounds.  A great class for anyone from beginner to advanced. \n
URL:https://www.quiltworx.com/event/prismatic-star-9/
LOCATION:Quilting From the Heart\, 5710-48 Avenue\, Camrose\, AB\, T4V0K1\, Canada
CATEGORIES:Fractured Paint Box,Prismatic Star,Quilting from the Heart,Roger Kerr
ORGANIZER;CN="Quilting%20From%20the%20Heart%20-%20Roger%20Kerr":MAILTO:info@qfth.ca
END:VEVENT
END:VCALENDAR