BEGIN:VCALENDAR
VERSION:2.0
PRODID:-//Quiltworx.com - ECPv4.9.6//NONSGML v1.0//EN
CALSCALE:GREGORIAN
METHOD:PUBLISH
X-WR-CALNAME:Quiltworx.com
X-ORIGINAL-URL:https://www.quiltworx.com
X-WR-CALDESC:Events for Quiltworx.com
BEGIN:VTIMEZONE
TZID:"America/Denver"
BEGIN:DAYLIGHT
TZOFFSETFROM:-0700
TZOFFSETTO:-0600
TZNAME:MDT
DTSTART:20180311T090000
END:DAYLIGHT
BEGIN:STANDARD
TZOFFSETFROM:-0600
TZOFFSETTO:-0700
TZNAME:MST
DTSTART:20181104T080000
END:STANDARD
END:VTIMEZONE
BEGIN:VEVENT
DTSTART;TZID="America/Denver":20180929T090000
DTEND;TZID="America/Denver":20180929T170000
DTSTAMP:20260424T190601
CREATED:20180710T013057Z
LAST-MODIFIED:20181009T225120Z
UID:89771-1538211600-1538240400@www.quiltworx.com
SUMMARY:Prismatic Star
DESCRIPTION:The Prismatic Star was created to show how an exploded star could be paper pieced using the (48) 2-1/2” strip packages that Quiltworx.com has created for use with a number of its strip pieced quilt designs.  Strips are sewn onto foundation paper to complete what we call a ‘Strip Set’. After the strip sets are completed\, they are cut apart\, rearranged and resewn into a diamond star point. Either the wall or queen can be made. \nFractured Star used 2 1/2 strip set. \n
URL:https://www.quiltworx.com/event/prismatic-star-31/
LOCATION:Sharon's Attic\, 2950 SW Cornelius Pass Road\, Suite 100\, Hillsboro\, WA\, 97123\, United States
CATEGORIES:Carol Hattan,Fractured Star,Prismatic Star
ORGANIZER;CN="Sharon%20Rice":MAILTO:quilter5427@hotmail.com
END:VEVENT
END:VCALENDAR