BEGIN:VCALENDAR
VERSION:2.0
PRODID:-//Quiltworx.com - ECPv4.9.6//NONSGML v1.0//EN
CALSCALE:GREGORIAN
METHOD:PUBLISH
X-WR-CALNAME:Quiltworx.com
X-ORIGINAL-URL:https://www.quiltworx.com
X-WR-CALDESC:Events for Quiltworx.com
BEGIN:VTIMEZONE
TZID:"America/Denver"
BEGIN:DAYLIGHT
TZOFFSETFROM:-0700
TZOFFSETTO:-0600
TZNAME:MDT
DTSTART:20190310T090000
END:DAYLIGHT
BEGIN:STANDARD
TZOFFSETFROM:-0600
TZOFFSETTO:-0700
TZNAME:MST
DTSTART:20191103T080000
END:STANDARD
END:VTIMEZONE
BEGIN:VEVENT
DTSTART;TZID="America/Denver":20190406T100000
DTEND;TZID="America/Denver":20190406T150000
DTSTAMP:20260424T041314
CREATED:20190117T004428Z
LAST-MODIFIED:20190117T004649Z
UID:92238-1554544800-1554562800@www.quiltworx.com
SUMMARY:Prismatic Star (2 of 2)
DESCRIPTION: \nJoin this 2-month class creating Quiltworx Prismatic Star quilt. \n
URL:https://www.quiltworx.com/event/prismatic-star-2-of-2-3/
LOCATION:Stitch'n Quilt\, 5590 Mableton Parkway SW\, Suite 146\, Mableton\, GA\, United States
CATEGORIES:Carol Stanek
END:VEVENT
END:VCALENDAR