BEGIN:VCALENDAR
VERSION:2.0
PRODID:-//Quiltworx.com - ECPv4.9.6//NONSGML v1.0//EN
CALSCALE:GREGORIAN
METHOD:PUBLISH
X-WR-CALNAME:Quiltworx.com
X-ORIGINAL-URL:https://www.quiltworx.com
X-WR-CALDESC:Events for Quiltworx.com
BEGIN:VTIMEZONE
TZID:"America/Denver"
BEGIN:DAYLIGHT
TZOFFSETFROM:-0700
TZOFFSETTO:-0600
TZNAME:MDT
DTSTART:20150308T090000
END:DAYLIGHT
BEGIN:STANDARD
TZOFFSETFROM:-0600
TZOFFSETTO:-0700
TZNAME:MST
DTSTART:20151101T080000
END:STANDARD
END:VTIMEZONE
BEGIN:VEVENT
DTSTART;VALUE=DATE:20150920
DTEND;VALUE=DATE:20150921
DTSTAMP:20260422T160115
CREATED:20150917T213204Z
LAST-MODIFIED:20150917T213204Z
UID:21582-1442707200-1442793599@www.quiltworx.com
SUMMARY:Prismatic Star
DESCRIPTION:One Day Basics Quiltworx Class \nPrismatic Star with certified instructor Julie Arrowood \nJoin Julie on Sunday\, September 20th to learn the basics of paper piecing the Quiltworx way. \n  \nYou will be working on Prismatic Star with your choice of 2-1/2 inch strip sets from the shop\, plus an accent and background fabric. \nShe will get you going with cutting and sewing.  All of the units are the same for this stunning star so once you get it mastered the rest is easy. \n  \n$139 includes class with Julie\, 48 strips\, 1-1/8 yard of accent and 2 yards of background fabric in your choice of colors from the shop\, pattern\, and papers to make the quilt. \n  \n
URL:https://www.quiltworx.com/event/prismatic-star-10/
LOCATION:Pine Needles Quilt & Sew\, 1300 Salem Rd SW\, Rochester\, 55902\, United States
CATEGORIES:Julie Arrowood,Prismatic Star
ORGANIZER;CN="Pine%20Needles%20Quilt%20%26amp%3B%20Sew":MAILTO:info@pnqs.net
END:VEVENT
END:VCALENDAR