BEGIN:VCALENDAR
VERSION:2.0
PRODID:-//Quiltworx.com - ECPv4.9.6//NONSGML v1.0//EN
CALSCALE:GREGORIAN
METHOD:PUBLISH
X-WR-CALNAME:Quiltworx.com
X-ORIGINAL-URL:https://www.quiltworx.com
X-WR-CALDESC:Events for Quiltworx.com
BEGIN:VTIMEZONE
TZID:"America/Denver"
BEGIN:DAYLIGHT
TZOFFSETFROM:-0700
TZOFFSETTO:-0600
TZNAME:MDT
DTSTART:20150308T090000
END:DAYLIGHT
BEGIN:STANDARD
TZOFFSETFROM:-0600
TZOFFSETTO:-0700
TZNAME:MST
DTSTART:20151101T080000
END:STANDARD
END:VTIMEZONE
BEGIN:VEVENT
DTSTART;TZID="America/Denver":20151031T100000
DTEND;TZID="America/Denver":20151101T160000
DTSTAMP:20260423T001822
CREATED:20150918T015027Z
LAST-MODIFIED:20150918T015255Z
UID:21606-1446285600-1446393600@www.quiltworx.com
SUMMARY:Prairie Star
DESCRIPTION: \n
URL:https://www.quiltworx.com/event/prairie-star-3/
LOCATION:A Stitch of Country\, 188 Us. Highway 95a S.\, Fernley\, NV\, 89408\, Select a Country:
CATEGORIES:Prairie Star 2014,Victoria Johnson
END:VEVENT
END:VCALENDAR