BEGIN:VCALENDAR
VERSION:2.0
PRODID:-//Quiltworx.com - ECPv4.9.6//NONSGML v1.0//EN
CALSCALE:GREGORIAN
METHOD:PUBLISH
X-WR-CALNAME:Quiltworx.com
X-ORIGINAL-URL:https://www.quiltworx.com
X-WR-CALDESC:Events for Quiltworx.com
BEGIN:VTIMEZONE
TZID:"America/Denver"
BEGIN:DAYLIGHT
TZOFFSETFROM:-0700
TZOFFSETTO:-0600
TZNAME:MDT
DTSTART:20150308T090000
END:DAYLIGHT
BEGIN:STANDARD
TZOFFSETFROM:-0600
TZOFFSETTO:-0700
TZNAME:MST
DTSTART:20151101T080000
END:STANDARD
END:VTIMEZONE
BEGIN:VEVENT
DTSTART;VALUE=DATE:20150502
DTEND;VALUE=DATE:20150503
DTSTAMP:20260420T033710
CREATED:20150312T062206Z
LAST-MODIFIED:20150312T062208Z
UID:18079-1430524800-1430611199@www.quiltworx.com
SUMMARY:Prairie Pinwheels\, Coshocton\, OH
DESCRIPTION:This one day class will be fun for those experienced with making Judy’s quilts or those who are new to her techniques. \n
URL:https://www.quiltworx.com/event/prairie-pinwheels-coshocton-oh/
CATEGORIES:Sue Wilson
ORGANIZER;CN="Sue%20Wilson":MAILTO:salmonfever@frontier.com
END:VEVENT
END:VCALENDAR