BEGIN:VCALENDAR
VERSION:2.0
PRODID:-//Quiltworx.com - ECPv4.9.6//NONSGML v1.0//EN
CALSCALE:GREGORIAN
METHOD:PUBLISH
X-WR-CALNAME:Quiltworx.com
X-ORIGINAL-URL:https://www.quiltworx.com
X-WR-CALDESC:Events for Quiltworx.com
BEGIN:VTIMEZONE
TZID:"America/Denver"
BEGIN:DAYLIGHT
TZOFFSETFROM:-0700
TZOFFSETTO:-0600
TZNAME:MDT
DTSTART:20180311T090000
END:DAYLIGHT
BEGIN:STANDARD
TZOFFSETFROM:-0600
TZOFFSETTO:-0700
TZNAME:MST
DTSTART:20181104T080000
END:STANDARD
END:VTIMEZONE
BEGIN:VEVENT
DTSTART;TZID="America/Denver":20181013T100000
DTEND;TZID="America/Denver":20181013T160000
DTSTAMP:20260423T165403
CREATED:20180712T102237Z
LAST-MODIFIED:20180713T103352Z
UID:89828-1539424800-1539446400@www.quiltworx.com
SUMMARY:Poinsettia Bouquet Wall Hanging 2-Day Quilt Class (Day 2 of 2)
DESCRIPTION:The Poinsettia Bouquet design was created using a series of mixer blocks from the Cattail Wall Quilt Mixer series designed by Judy and Bradley Niemeyer\, from Quiltworx.com.  It includes three sections referred to as Groups A\, B\, and C and these Group sizes have been standardized so that you can use interchangeable blocks in each space. \nSize: 77″ x 77″ \nPatterns Includes: Instructions\, Cover Sheet\, Yardage Information\, Foundation Papers\, & Pre-fused Applique Paper needed for quilt. \nThis is a Two Day Class:  \n1st Session is on Sept 8th\, 10 AM – 4 PM\n \nSecond Session is on Oct 13th\, 10 AM – 4 PM \nFree 3-hour Cutting Class: Thu Aug 30th\,  6-9p \nAgain\, the cost of this 2-day class includes the following: \n\nPoinsettia Bouquet Pattern\n12 hours of Course Instruction by Kathi Carter-Sweet\n3 hours of Pre-cutting Instruction by Patti M\nLunch & Light Snacks Both Days\n\nClick here for more details \n  \n
URL:https://www.quiltworx.com/event/poinsetta-bouquet-wall-hanging-2-day-quilt-class-day-2-of-2/
LOCATION:Sew Many Things\, 35486 Groesbeck Highway\, Clinton Township\, MI\, 48035\, United States
CATEGORIES:Kathi Carter-Sweet,Sew Many Things
ORGANIZER;CN="Sew%20Many%20Things%20Sewing%20Center":MAILTO:sewmanythingsle@yahoo.com
END:VEVENT
END:VCALENDAR