BEGIN:VCALENDAR
VERSION:2.0
PRODID:-//Quiltworx.com - ECPv4.9.6//NONSGML v1.0//EN
CALSCALE:GREGORIAN
METHOD:PUBLISH
X-WR-CALNAME:Quiltworx.com
X-ORIGINAL-URL:https://www.quiltworx.com
X-WR-CALDESC:Events for Quiltworx.com
BEGIN:VTIMEZONE
TZID:"America/Denver"
BEGIN:DAYLIGHT
TZOFFSETFROM:-0700
TZOFFSETTO:-0600
TZNAME:MDT
DTSTART:20190310T090000
END:DAYLIGHT
BEGIN:STANDARD
TZOFFSETFROM:-0600
TZOFFSETTO:-0700
TZNAME:MST
DTSTART:20191103T080000
END:STANDARD
END:VTIMEZONE
BEGIN:VEVENT
DTSTART;VALUE=DATE:20190926
DTEND;VALUE=DATE:20191006
DTSTAMP:20260425T125516
CREATED:20190117T022401Z
LAST-MODIFIED:20190117T024615Z
UID:92252-1569456000-1570319999@www.quiltworx.com
SUMMARY:Piecing in Color Quilting Cruise - New England to Canada
DESCRIPTION:We will be sailing onboard the incomparable Anthem of the Seas. \nWebsite with all Information:     http://quiltretreatatsea.com/piecing-in-color/ \nItinerary: \n\n26 September 2019:         Depart Cape Liberty (Newark)\, New Jersey at 4pm\n27 September 2019:         Quilting and Cruising\n28 September 2019:         Boston\, Massachusetts from 7am to 7pm\n29 September 2019:         Portland\, Maine from 8am to 5pm\n30 September 2019:         Bar Harbor\, Maine from 7am to 6pm\n1 October 2019:                 Halifax\, Nova Scotia from 11am to 11pm\n2 October 2019:                Quilting and Cruising\n3 October 2019:                St John\, New Brunswick from 7am to 5pm\n4 October 2019:                Quilting and Cruising\n5 October 2019:                Arrive Cape Liberty (Newark)\, New Jersey at 7am\n\nThe Quilt Project:  \nJudy Niemeyer Instructors\, Carol and Victoria will be providing paper piecing techniques and lots of tip to make this project fun and easy.  This lap or wall hanging sized quilt will have you amazed at how easy it is to make. You will go home with a finished (or nearly finished) quilt top. More details soon on the pattern and colorway of this project. \n
URL:https://www.quiltworx.com/event/piecing-in-color-quilting-cruise-new-england-to-canada/
CATEGORIES:Carol Stanek
END:VEVENT
END:VCALENDAR